Workbook

Sheet DMA_Scores_by pillar scores
B2: DMA | F2: Across | H2: IDDA | K2: MDDT | N2: Maritime | Q2: Aviation | T2: AYNA | W2: ESS | Z2: ICTA | AC2: MoJ | AF2: MDDT (transport) | AH2: MDDT (ICT) | AJ2: MDDT + ALL agencies | AL2: MDDT + agencies (no IDDA) | AO2: MDDT + ALL agencies weighted
D3: Weight | H3: 0.5 | K3: =0.5/6 -> 0.083333333 | N3: =0.5/6 -> 0.083333333 | Q3: =0.5/6 -> 0.083333333 | T3: =0.5/6 -> 0.083333333 | W3: =0.5/6 -> 0.083333333 | Z3: =0.5/6 -> 0.083333333
N4: =0.5/5 -> 0.1 | Q4: =0.5/5 -> 0.1 | T4: =0.5/5 -> 0.1 | W4: =0.5/5 -> 0.1 | Z4: =0.5/5 -> 0.1
B5: Pillars | C5: Domains | D5: Capabilities | F5: =AVERAGE(F6,F12,F25,F51,) -> 22.049079 | H5: =AYNA!E5 -> 0 | K5: =MDDT!E4 -> 18.280921 | N5: =Maritime!E4 -> 0 | Q5: =Aviation!E4 -> 8.6171053 | T5: =AYNA!E5 -> 0 | W5: =ESS!E4 -> 18.207895 | Z5: =ICTA!E4 -> 0 | AC5: =MoJ!E4 -> 0 | AF5: =AVERAGE(T5,Q5,N5) -> 2.8723684 | AH5: =AVERAGE(W5,Z5) -> 9.1039474 | AJ5: =AVERAGE(H5,K5,N5,Q5,T5,W5,Z5) -> 6.443703 | AL5: =AVERAGE(Z5,W5,T5,Q5,N5,K5) -> 7.5176535 | AO5: =H5*$H$3+K5*$K$3+N5*$N$3+Q5*$Q$3+T5*$T$3+W5*$W$3+Z5*$Z$3 -> 3.7588268
B6: Strategy | F6: =F7 -> 24.975 | H6: =H7 -> 41.625 | K6: =K7 -> 8.325 | N6: =N7 -> 24.975 | Q6: =Q7 -> 0 | T6: =T7 -> 24.975 | W6: =W7 -> 16.65 | Z6: =Z7 -> 49.95 | AC6: =AC7 -> 33.3 | AF6: =AVERAGE(T6,Q6,N6) -> 16.65 | AH6: =AVERAGE(W6,Z6) -> 33.3 | AJ6: =AVERAGE(Z6,W6,T6,Q6,N6,K6,K18) -> 20.8125 | AL6: =AVERAGE(Z6,W6,T6,Q6,N6,K6) -> 20.8125 | AO6: =H6*$H$3+K6*$K$3+N6*$N$3+Q6*$Q$3+T6*$T$3+W6*$W$3+Z6*$Z$3 -> 31.21875
C7: Vision and roadmap | F7: =AVERAGE(F8:F11) -> 24.975 | H7: =AVERAGE(H8:H11) -> 41.625 | K7: =AVERAGE(K8:K11) -> 8.325 | N7: =IFERROR(AVERAGE(N8:N11),"") -> 24.975 | O7: 25 | Q7: =IFERROR(AVERAGE(Q8:Q11),"") -> 0 | T7: =AVERAGE(T8:T11) -> 24.975 | W7: =AVERAGE(W8:W11) -> 16.65 | Z7: =AVERAGE(Z8:Z11) -> 49.95 | AC7: =AVERAGE(AC8:AC11) -> 33.3 | AF7: =AVERAGE(T7,Q7,N7) -> 16.65 | AH7: =AVERAGE(W7,Z7) -> 33.3 | AJ7: =AVERAGE(Z7,W7,T7,Q7,N7,K7,K19) -> 20.8125 | AL7: =AVERAGE(Z7,W7,T7,Q7,N7,K7) -> 20.8125 | AO7: =H7*$H$3+K7*$K$3+N7*$N$3+Q7*$Q$3+T7*$T$3+W7*$W$3+Z7*$Z$3 -> 31.21875
D8: Target state definition | F8: =AVERAGE(H8,K8,N8,Q8,T8,W8,Z8,AC8) -> 33.3 | H8: =(I8-1)*33.3 -> 66.6 | I8: 3 | K8: =(L8-1)*33.3 -> 0 | L8: 1 | N8: =IF(O8=0,"",(O8-1)*33.3) -> 33.3 | O8: 2 | Q8: =IF(R8=0,"",(R8-1)*33.3) -> 0 | R8: 1 | T8: =(U8-1)*33.3 -> 33.3 | U8: 2 | W8: =(X8-1)*33.3 -> 33.3 | X8: 2 | Z8: =(AA8-1)*33.3 -> 66.6 | AA8: 3 | AC8: =(AD8-1)*33.3 -> 33.3 | AD8: 2 | AF8: =AVERAGE(T8,Q8,N8) -> 22.2 | AH8: =AVERAGE(W8,Z8) -> 49.95 | AJ8: =AVERAGE(Z8,W8,T8,Q8,N8,K8,K20) -> 27.75 | AL8: =AVERAGE(Z8,W8,T8,Q8,N8,K8) -> 27.75 | AO8: =H8*$H$3+K8*$K$3+N8*$N$3+Q8*$Q$3+T8*$T$3+W8*$W$3+Z8*$Z$3 -> 47.175
D9: Engagement & communication | F9: =AVERAGE(H9,K9,N9,Q9,T9,W9,Z9,AC9) -> 12.4875 | H9: =(I9-1)*33.3 -> 33.3 | I9: 2 | K9: =(L9-1)*33.3 -> 0 | L9: 1 | N9: =IF(O9=0,"",(O9-1)*33.3) -> 0 | O9: 1 | Q9: =IF(R9=0,"",(R9-1)*33.3) -> 0 | R9: 1 | T9: =(U9-1)*33.3 -> 33.3 | U9: 2 | W9: =(X9-1)*33.3 -> 0 | X9: 1 | Z9: =(AA9-1)*33.3 -> 0 | AA9: 1 | AC9: =(AD9-1)*33.3 -> 33.3 | AD9: 2 | AF9: =AVERAGE(T9,Q9,N9) -> 11.1 | AH9: =AVERAGE(W9,Z9) -> 0 | AJ9: =AVERAGE(Z9,W9,T9,Q9,N9,K9,K21) -> 5.55 | AL9: =AVERAGE(Z9,W9,T9,Q9,N9,K9) -> 5.55 | AO9: =H9*$H$3+K9*$K$3+N9*$N$3+Q9*$Q$3+T9*$T$3+W9*$W$3+Z9*$Z$3 -> 19.425
D10: Implementation roadmap | F10: =AVERAGE(H10,K10,N10,Q10,T10,W10,Z10,AC10) -> 29.1375 | H10: =(I10-1)*33.3 -> 33.3 | I10: 2 | K10: =(L10-1)*33.3 -> 0 | L10: 1 | N10: =IF(O10=0,"",(O10-1)*33.3) -> 33.3 | O10: 2 | Q10: =IF(R10=0,"",(R10-1)*33.3) -> 0 | R10: 1 | T10: =(U10-1)*33.3 -> 33.3 | U10: 2 | W10: =(X10-1)*33.3 -> 33.3 | X10: 2 | Z10: =(AA10-1)*33.3 -> 66.6 | AA10: 3 | AC10: =(AD10-1)*33.3 -> 33.3 | AD10: 2 | AF10: =AVERAGE(T10,Q10,N10) -> 22.2 | AH10: =AVERAGE(W10,Z10) -> 49.95 | AJ10: =AVERAGE(Z10,W10,T10,Q10,N10,K10,K22) -> 27.75 | AL10: =AVERAGE(Z10,W10,T10,Q10,N10,K10) -> 27.75 | AO10: =H10*$H$3+K10*$K$3+N10*$N$3+Q10*$Q$3+T10*$T$3+W10*$W$3+Z10*$Z$3 -> 30.525
D11: Digital related KPIs | F11: =AVERAGE(H11,K11,N11,Q11,T11,W11,Z11,AC11) -> 24.975 | H11: =(I11-1)*33.3 -> 33.3 | I11: 2 | K11: =(L11-1)*33.3 -> 33.3 | L11: 2 | N11: =IF(O11=0,"",(O11-1)*33.3) -> 33.3 | O11: 2 | Q11: =IF(R11=0,"",(R11-1)*33.3) -> 0 | R11: 1 | T11: =(U11-1)*33.3 -> 0 | U11: 1 | W11: =(X11-1)*33.3 -> 0 | X11: 1 | Z11: =(AA11-1)*33.3 -> 66.6 | AA11: 3 | AC11: =(AD11-1)*33.3 -> 33.3 | AD11: 2 | AF11: =AVERAGE(T11,Q11,N11) -> 11.1 | AH11: =AVERAGE(W11,Z11) -> 33.3 | AJ11: =AVERAGE(Z11,W11,T11,Q11,N11,K11,K23) -> 22.2 | AL11: =AVERAGE(Z11,W11,T11,Q11,N11,K11) -> 22.2 | AO11: =H11*$H$3+K11*$K$3+N11*$N$3+Q11*$Q$3+T11*$T$3+W11*$W$3+Z11*$Z$3 -> 27.75
B12: Services provided | F12: =AVERAGE(F14:F16,F18:F20,F22:F24) -> 33.3 | H12: =AVERAGE(H14:H16,H18:H20,H22:H24) -> 40.7 | N12: =IFERROR(AVERAGE(N13,N17,N21),"") -> 11.1 | Q12: =IFERROR(AVERAGE(Q13,Q17,Q21),"") -> 7.4 | T12: =AVERAGE(T14:T16,T18:T20,T22:T24) -> 48.1 | W12: =AVERAGE(W14:W16,W18:W20,W22:W24) -> 33.3 | Z12: =AVERAGE(Z14:Z16,Z18:Z20,Z22:Z24) -> 33.3 | AC12: =AVERAGE(AC14:AC16,AC18:AC20,AC22:AC24) -> 59.2 | AF12: =AVERAGE(T12,Q12,N12) -> 22.2 | AH12: =AVERAGE(W12,Z12) -> 33.3 | AJ12: =AVERAGE(Z12,W12,T12,Q12,N12,K12,K24) -> 26.64 | AL12: =AVERAGE(Z12,W12,T12,Q12,N12,K12) -> 26.64 | AO12: =H12*$H$3+N12*$N$4+Q12*$Q$4+T12*$T$4+W12*$W$4+Z12*$Z$4 -> 33.67 | AP12: MDDT excluded from weighting
C13: Service digitalization | F13: =AVERAGE(F14:F16) -> 38.057143 | H13: =AVERAGE(H14:H16) -> 33.3 | N13: =IFERROR(AVERAGE(N14:N16),"") -> 11.1 | Q13: =IFERROR(AVERAGE(Q14:Q16),"") -> 22.2 | T13: =AVERAGE(T14:T16) -> 66.6 | W13: =AVERAGE(W14:W16) -> 33.3 | Z13: =AVERAGE(Z14:Z16) -> 33.3 | AC13: =AVERAGE(AC14:AC16) -> 66.6 | AF13: =AVERAGE(T13,Q13,N13) -> 33.3 | AH13: =AVERAGE(W13,Z13) -> 33.3 | AJ13: =AVERAGE(Z13,W13,T13,Q13,N13,K13) -> 33.3 | AL13: =AVERAGE(Z13,W13,T13,Q13,N13,K13) -> 33.3 | AO13: =H13*$H$3+N13*$N$4+Q13*$Q$4+T13*$T$4+W13*$W$4+Z13*$Z$4 -> 33.3 | AP13: MDDT excluded from weighting
D14: Share of digital services | F14: =AVERAGE(H14,K14,N14,Q14,T14,W14,Z14,AC14) -> 38.057143 | H14: =(I14-1)*33.3 -> 33.3 | I14: 2 | K14: n/a | N14: =IF(O14=0,"",(O14-1)*33.3) -> 0 | O14: 1 | Q14: =IF(R14=0,"",(R14-1)*33.3) -> 33.3 | R14: 2 | T14: =(U14-1)*33.3 -> 66.6 | U14: 3 | W14: =(X14-1)*33.3 -> 33.3 | X14: 2 | Z14: =(AA14-1)*33.3 -> 33.3 | AA14: 2 | AC14: =(AD14-1)*33.3 -> 66.6 | AD14: 3 | AF14: =AVERAGE(T14,Q14,N14) -> 33.3 | AH14: =AVERAGE(W14,Z14) -> 33.3 | AJ14: =AVERAGE(Z14,W14,T14,Q14,N14,K14) -> 33.3 | AL14: =AVERAGE(Z14,W14,T14,Q14,N14,K14) -> 33.3 | AO14: =H14*$H$3+N14*$N$4+Q14*$Q$4+T14*$T$4+W14*$W$4+Z14*$Z$4 -> 33.3 | AP14: MDDT excluded from weighting
D15: Automation level | F15: =AVERAGE(H15,K15,N15,Q15,T15,W15,Z15,AC15) -> 33.3 | H15: =(I15-1)*33.3 -> 33.3 | I15: 2 | K15: n/a | N15: =IF(O15=0,"",(O15-1)*33.3) -> 0 | O15: 1 | Q15: =IF(R15=0,"",(R15-1)*33.3) -> 0 | R15: 1 | T15: =(U15-1)*33.3 -> 66.6 | U15: 3 | W15: =(X15-1)*33.3 -> 33.3 | X15: 2 | Z15: =(AA15-1)*33.3 -> 33.3 | AA15: 2 | AC15: =(AD15-1)*33.3 -> 66.6 | AD15: 3 | AF15: =AVERAGE(T15,Q15,N15) -> 22.2 | AH15: =AVERAGE(W15,Z15) -> 33.3 | AJ15: =AVERAGE(Z15,W15,T15,Q15,N15,K15) -> 26.64 | AL15: =AVERAGE(Z15,W15,T15,Q15,N15,K15) -> 26.64 | AO15: =H15*$H$3+N15*$N$4+Q15*$Q$4+T15*$T$4+W15*$W$4+Z15*$Z$4 -> 29.97 | AP15: MDDT excluded from weighting
D16: Service quality and reliability | F16: =AVERAGE(H16,K16,N16,Q16,T16,W16,Z16,AC16) -> 42.814286 | H16: =(I16-1)*33.3 -> 33.3 | I16: 2 | K16: n/a | N16: =IF(O16=0,"",(O16-1)*33.3) -> 33.3 | O16: 2 | Q16: =IF(R16=0,"",(R16-1)*33.3) -> 33.3 | R16: 2 | T16: =(U16-1)*33.3 -> 66.6 | U16: 3 | W16: =(X16-1)*33.3 -> 33.3 | X16: 2 | Z16: =(AA16-1)*33.3 -> 33.3 | AA16: 2 | AC16: =(AD16-1)*33.3 -> 66.6 | AD16: 3 | AF16: =AVERAGE(T16,Q16,N16) -> 44.4 | AH16: =AVERAGE(W16,Z16) -> 33.3 | AJ16: =AVERAGE(Z16,W16,T16,Q16,N16,K16) -> 39.96 | AL16: =AVERAGE(Z16,W16,T16,Q16,N16,K16) -> 39.96 | AO16: =H16*$H$3+N16*$N$4+Q16*$Q$4+T16*$T$4+W16*$W$4+Z16*$Z$4 -> 36.63 | AP16: MDDT excluded from weighting
C17: User experience | F17: =AVERAGE(H17,K17,N17,Q17,T17,W17,Z17,AC17) -> 31.714286 | H17: =AVERAGE(H18:H20) -> 44.4 | N17: =IFERROR(AVERAGE(N18:N20),"") -> 11.1 | Q17: =IFERROR(AVERAGE(Q18:Q20),"") -> 0 | T17: =AVERAGE(T18:T20) -> 44.4 | W17: =AVERAGE(W18:W20) -> 33.3 | Z17: =AVERAGE(Z18:Z20) -> 33.3 | AC17: =AVERAGE(AC18:AC20) -> 55.5 | AF17: =AVERAGE(T17,Q17,N17) -> 18.5 | AH17: =AVERAGE(W17,Z17) -> 33.3 | AJ17: =AVERAGE(Z17,W17,T17,Q17,N17,K17) -> 24.42 | AL17: =AVERAGE(Z17,W17,T17,Q17,N17,K17) -> 24.42 | AO17: =H17*$H$3+N17*$N$4+Q17*$Q$4+T17*$T$4+W17*$W$4+Z17*$Z$4 -> 34.41 | AP17: MDDT excluded from weighting
D18: Access channels | F18: =AVERAGE(H18,K18,N18,Q18,T18,W18,Z18,AC18) -> 42.814286 | H18: =(I18-1)*33.3 -> 33.3 | I18: 2 | K18: n/a | N18: =IF(O18=0,"",(O18-1)*33.3) -> 33.3 | O18: 2 | Q18: =IF(R18=0,"",(R18-1)*33.3) -> 0 | R18: 1 | T18: =(U18-1)*33.3 -> 66.6 | U18: 3 | W18: =(X18-1)*33.3 -> 33.3 | X18: 2 | Z18: =(AA18-1)*33.3 -> 66.6 | AA18: 3 | AC18: =(AD18-1)*33.3 -> 66.6 | AD18: 3 | AF18: =AVERAGE(T18,Q18,N18) -> 33.3 | AH18: =AVERAGE(W18,Z18) -> 49.95 | AJ18: =AVERAGE(Z18,W18,T18,Q18,N18,K18) -> 39.96 | AL18: =AVERAGE(Z18,W18,T18,Q18,N18,K18) -> 39.96 | AO18: =H18*$H$3+N18*$N$4+Q18*$Q$4+T18*$T$4+W18*$W$4+Z18*$Z$4 -> 36.63 | AP18: MDDT excluded from weighting
D19: Citizen journey | F19: =AVERAGE(H19,K19,N19,Q19,T19,W19,Z19,AC19) -> 42.814286 | H19: =(I19-1)*33.3 -> 66.6 | I19: 3 | K19: n/a | N19: =IF(O19=0,"",(O19-1)*33.3) -> 0 | O19: 1 | Q19: =IF(R19=0,"",(R19-1)*33.3) -> 0 | R19: 1 | T19: =(U19-1)*33.3 -> 66.6 | U19: 3 | W19: =(X19-1)*33.3 -> 66.6 | X19: 3 | Z19: =(AA19-1)*33.3 -> 33.3 | AA19: 2 | AC19: =(AD19-1)*33.3 -> 66.6 | AD19: 3 | AF19: =AVERAGE(T19,Q19,N19) -> 22.2 | AH19: =AVERAGE(W19,Z19) -> 49.95 | AJ19: =AVERAGE(Z19,W19,T19,Q19,N19,K19) -> 33.3 | AL19: =AVERAGE(Z19,W19,T19,Q19,N19,K19) -> 33.3 | AO19: =H19*$H$3+N19*$N$4+Q19*$Q$4+T19*$T$4+W19*$W$4+Z19*$Z$4 -> 49.95 | AP19: MDDT excluded from weighting
D20: Accessibility and inclusion | F20: =AVERAGE(H20,K20,N20,Q20,T20,W20,Z20,AC20) -> 9.5142857 | H20: =(I20-1)*33.3 -> 33.3 | I20: 2 | K20: n/a | N20: =IF(O20=0,"",(O20-1)*33.3) -> 0 | O20: 1 | Q20: =IF(R20=0,"",(R20-1)*33.3) -> 0 | R20: 1 | T20: =(U20-1)*33.3 -> 0 | U20: 1 | W20: =(X20-1)*33.3 -> 0 | X20: 1 | Z20: =(AA20-1)*33.3 -> 0 | AA20: 1 | AC20: =(AD20-1)*33.3 -> 33.3 | AD20: 2 | AF20: =AVERAGE(T20,Q20,N20) -> 0 | AH20: =AVERAGE(W20,Z20) -> 0 | AJ20: =AVERAGE(Z20,W20,T20,Q20,N20,K20) -> 0 | AL20: =AVERAGE(Z20,W20,T20,Q20,N20,K20) -> 0 | AO20: =H20*$H$3+N20*$N$4+Q20*$Q$4+T20*$T$4+W20*$W$4+Z20*$Z$4 -> 16.65 | AP20: MDDT excluded from weighting
C21: New services development | F21: =AVERAGE(H21,K21,N21,Q21,T21,W21,Z21,AC21) -> 30.128571 | H21: =AVERAGE(H22:H24) -> 44.4 | N21: =IFERROR(AVERAGE(N22:N24),"") -> 11.1 | Q21: =IFERROR(AVERAGE(Q22:Q24),"") -> 0 | T21: =AVERAGE(T22:T24) -> 33.3 | W21: =AVERAGE(W22:W24) -> 33.3 | Z21: =AVERAGE(Z22:Z24) -> 33.3 | AC21: =AVERAGE(AC22:AC24) -> 55.5 | AF21: =AVERAGE(T21,Q21,N21) -> 14.8 | AG21: =(K5+N5+Q5+T5+W5+Z5)/6 -> 7.5176535 | AH21: =AVERAGE(W21,Z21) -> 33.3 | AJ21: =AVERAGE(Z21,W21,T21,Q21,N21,K21) -> 22.2 | AL21: =AVERAGE(Z21,W21,T21,Q21,N21,K21) -> 22.2 | AO21: =H21*$H$3+N21*$N$4+Q21*$Q$4+T21*$T$4+W21*$W$4+Z21*$Z$4 -> 33.3 | AP21: MDDT excluded from weighting
D22: Digital service lifecycle | F22: =AVERAGE(H22,K22,N22,Q22,T22,W22,Z22,AC22) -> 33.3 | H22: =(I22-1)*33.3 -> 66.6 | I22: 3 | K22: n/a | N22: =IF(O22=0,"",(O22-1)*33.3) -> 0 | O22: 1 | Q22: =IF(R22=0,"",(R22-1)*33.3) -> 0 | R22: 1 | T22: =(U22-1)*33.3 -> 33.3 | U22: 2 | W22: =(X22-1)*33.3 -> 33.3 | X22: 2 | Z22: =(AA22-1)*33.3 -> 33.3 | AA22: 2 | AC22: =(AD22-1)*33.3 -> 66.6 | AD22: 3 | AF22: =AVERAGE(T22,Q22,N22) -> 11.1 | AH22: =AVERAGE(W22,Z22) -> 33.3 | AJ22: =AVERAGE(Z22,W22,T22,Q22,N22,K22) -> 19.98 | AL22: =AVERAGE(Z22,W22,T22,Q22,N22,K22) -> 19.98 | AO22: =H22*$H$3+N22*$N$4+Q22*$Q$4+T22*$T$4+W22*$W$4+Z22*$Z$4 -> 43.29 | AP22: MDDT excluded from weighting
D23: Service creation/enhancement | F23: =AVERAGE(H23,K23,N23,Q23,T23,W23,Z23,AC23) -> 23.785714 | H23: =(I23-1)*33.3 -> 33.3 | I23: 2 | K23: n/a | N23: =IF(O23=0,"",(O23-1)*33.3) -> 0 | O23: 1 | Q23: =IF(R23=0,"",(R23-1)*33.3) -> 0 | R23: 1 | T23: =(U23-1)*33.3 -> 33.3 | U23: 2 | W23: =(X23-1)*33.3 -> 33.3 | X23: 2 | Z23: =(AA23-1)*33.3 -> 33.3 | AA23: 2 | AC23: =(AD23-1)*33.3 -> 33.3 | AD23: 2 | AF23: =AVERAGE(T23,Q23,N23) -> 11.1 | AH23: =AVERAGE(W23,Z23) -> 33.3 | AJ23: =AVERAGE(Z23,W23,T23,Q23,N23,K23) -> 19.98 | AL23: =AVERAGE(Z23,W23,T23,Q23,N23,K23) -> 19.98 | AO23: =H23*$H$3+N23*$N$4+Q23*$Q$4+T23*$T$4+W23*$W$4+Z23*$Z$4 -> 26.64 | AP23: MDDT excluded from weighting
D24: Testing and rollout strategies | F24: =AVERAGE(H24,K24,N24,Q24,T24,W24,Z24,AC24) -> 33.3 | H24: =(I24-1)*33.3 -> 33.3 | I24: 2 | K24: n/a | N24: =IF(O24=0,"",(O24-1)*33.3) -> 33.3 | O24: 2 | Q24: =IF(R24=0,"",(R24-1)*33.3) -> 0 | R24: 1 | T24: =(U24-1)*33.3 -> 33.3 | U24: 2 | W24: =(X24-1)*33.3 -> 33.3 | X24: 2 | Z24: =(AA24-1)*33.3 -> 33.3 | AA24: 2 | AC24: =(AD24-1)*33.3 -> 66.6 | AD24: 3 | AF24: =AVERAGE(T24,Q24,N24) -> 22.2 | AH24: =AVERAGE(W24,Z24) -> 33.3 | AJ24: =AVERAGE(Z24,W24,T24,Q24,N24,K24) -> 26.64 | AL24: =AVERAGE(Z24,W24,T24,Q24,N24,K24) -> 26.64 | AO24: =H24*$H$3+N24*$N$4+Q24*$Q$4+T24*$T$4+W24*$W$4+Z24*$Z$4 -> 29.97 | AP24: MDDT excluded from weighting
B25: Capabilities | F25: =AVERAGE(F27:F29,F31:F33,F35:F37,F39:F41,F43:F46,F48:F50) -> 26.070395 | H25: =AVERAGE(H27:H29,H31:H33,H35:H37,H39:H41,H43:H46,H48:H50) -> 40.310526 | K25: =AVERAGE(K27:K29,K31:K33,K35:K37,K39:K41,K43:K46,K48:K50) -> 14.021053 | N25: =IFERROR(AVERAGE(N26,N30,N34,N38,N42,N47),"") -> 18.5 | Q25: =IFERROR(AVERAGE(Q26,Q30,Q34,Q38,Q42,Q47),"") -> 10.175 | T25: =AVERAGE(T27:T29,T31:T33,T35:T37,T39:T41,T43:T46,T48:T50) -> 45.568421 | W25: =AVERAGE(W27:W29,W31:W33,W35:W37,W39:W41,W43:W46,W48:W50) -> 24.536842 | Z25: =AVERAGE(Z27:Z29,Z31:Z33,Z35:Z37,Z39:Z41,Z43:Z46,Z48:Z50) -> 24.536842 | AC25: =AVERAGE(AC27:AC29,AC31:AC33,AC35:AC37,AC39:AC41,AC43:AC46,AC48:AC50) -> 29.794737 | AF25: =AVERAGE(T25,Q25,N25) -> 24.747807 | AH25: =AVERAGE(W25,Z25) -> 24.536842 | AJ25: =AVERAGE(Z25,W25,T25,Q25,N25,K25) -> 22.889693 | AL25: =AVERAGE(Z25,W25,T25,Q25,N25,K25) -> 22.889693 | AO25: =H25*$H$3+N25*$N$3+Q25*$Q$3+T25*$T$3+W25*$W$3+Z25*$Z$3 -> 30.431689
C26: Architecture & infrastructure | F26: =AVERAGE(H26,K26,N26,Q26,T26,W26,Z26,AC26) -> 34.6875 | H26: =AVERAGE(H27:H29) -> 66.6 | K26: =AVERAGE(K27:K29) -> 11.1 | N26: =IFERROR(AVERAGE(N27:N29),"") -> 22.2 | Q26: =IFERROR(AVERAGE(Q27:Q29),"") -> 0 | T26: =AVERAGE(T27:T29) -> 66.6 | W26: =AVERAGE(W27:W29) -> 22.2 | Z26: =AVERAGE(Z27:Z29) -> 33.3 | AC26: =AVERAGE(AC27:AC29) -> 55.5 | AF26: =AVERAGE(T26,Q26,N26) -> 29.6 | AH26: =AVERAGE(W26,Z26) -> 27.75 | AJ26: =AVERAGE(Z26,W26,T26,Q26,N26,K26) -> 25.9 | AL26: =AVERAGE(Z26,W26,T26,Q26,N26,K26) -> 25.9 | AO26: =H26*$H$3+N26*$N$3+Q26*$Q$3+T26*$T$3+W26*$W$3+Z26*$Z$3 -> 45.325
D27: Architecture & Infrastructure | F27: =AVERAGE(H27,K27,N27,Q27,T27,W27,Z27,AC27) -> 37.4625 | H27: =(I27-1)*33.3 -> 66.6 | I27: 3 | K27: =(L27-1)*33.3 -> 0 | L27: 1 | N27: =IF(O27=0,"",(O27-1)*33.3) -> 66.6 | O27: 3 | Q27: =IF(R27=0,"",(R27-1)*33.3) -> 0 | R27: 1 | T27: =(U27-1)*33.3 -> 66.6 | U27: 3 | W27: =(X27-1)*33.3 -> 0 | X27: 1 | Z27: =(AA27-1)*33.3 -> 33.3 | AA27: 2 | AC27: =(AD27-1)*33.3 -> 66.6 | AD27: 3 | AF27: =AVERAGE(T27,Q27,N27) -> 44.4 | AH27: =AVERAGE(W27,Z27) -> 16.65 | AJ27: =AVERAGE(Z27,W27,T27,Q27,N27,K27) -> 27.75 | AL27: =AVERAGE(Z27,W27,T27,Q27,N27,K27) -> 27.75 | AO27: =H27*$H$3+N27*$N$3+Q27*$Q$3+T27*$T$3+W27*$W$3+Z27*$Z$3 -> 47.175
D28: Cloud adoption | F28: =AVERAGE(H28,K28,N28,Q28,T28,W28,Z28,AC28) -> 33.3 | H28: =(I28-1)*33.3 -> 66.6 | I28: 3 | K28: =(L28-1)*33.3 -> 33.3 | L28: 2 | N28: =IF(O28=0,"",(O28-1)*33.3) -> 0 | O28: 1 | Q28: =IF(R28=0,"",(R28-1)*33.3) -> 0 | R28: 1 | T28: =(U28-1)*33.3 -> 66.6 | U28: 3 | W28: =(X28-1)*33.3 -> 33.3 | X28: 2 | Z28: =(AA28-1)*33.3 -> 33.3 | AA28: 2 | AC28: =(AD28-1)*33.3 -> 33.3 | AD28: 2 | AF28: =AVERAGE(T28,Q28,N28) -> 22.2 | AH28: =AVERAGE(W28,Z28) -> 33.3 | AJ28: =AVERAGE(Z28,W28,T28,Q28,N28,K28) -> 27.75 | AL28: =AVERAGE(Z28,W28,T28,Q28,N28,K28) -> 27.75 | AO28: =H28*$H$3+N28*$N$3+Q28*$Q$3+T28*$T$3+W28*$W$3+Z28*$Z$3 -> 44.4
D29: Performance management | F29: =AVERAGE(H29,K29,N29,Q29,T29,W29,Z29,AC29) -> 33.3 | H29: =(I29-1)*33.3 -> 66.6 | I29: 3 | K29: =(L29-1)*33.3 -> 0 | L29: 1 | N29: =IF(O29=0,"",(O29-1)*33.3) -> 0 | O29: 1 | Q29: =IF(R29=0,"",(R29-1)*33.3) -> 0 | R29: 1 | T29: =(U29-1)*33.3 -> 66.6 | U29: 3 | W29: =(X29-1)*33.3 -> 33.3 | X29: 2 | Z29: =(AA29-1)*33.3 -> 33.3 | AA29: 2 | AC29: =(AD29-1)*33.3 -> 66.6 | AD29: 3 | AF29: =AVERAGE(T29,Q29,N29) -> 22.2 | AH29: =AVERAGE(W29,Z29) -> 33.3 | AJ29: =AVERAGE(Z29,W29,T29,Q29,N29,K29) -> 22.2 | AL29: =AVERAGE(Z29,W29,T29,Q29,N29,K29) -> 22.2 | AO29: =H29*$H$3+N29*$N$3+Q29*$Q$3+T29*$T$3+W29*$W$3+Z29*$Z$3 -> 44.4
C30: Analytics & AI | F30: =AVERAGE(F31:F33) -> 24.975 | H30: =AVERAGE(H31:H33) -> 44.4 | K30: =AVERAGE(K31:K33) -> 22.2 | N30: =IFERROR(AVERAGE(N31:N33),"") -> 0 | Q30: =IFERROR(AVERAGE(Q31:Q33),"") -> 11.1 | T30: =AVERAGE(T31:T33) -> 55.5 | W30: =AVERAGE(W31:W33) -> 22.2 | Z30: =AVERAGE(Z31:Z33) -> 22.2 | AC30: =AVERAGE(AC31:AC33) -> 22.2 | AF30: =AVERAGE(T30,Q30,N30) -> 22.2 | AH30: =AVERAGE(W30,Z30) -> 22.2 | AJ30: =AVERAGE(Z30,W30,T30,Q30,N30,K30) -> 22.2 | AL30: =AVERAGE(Z30,W30,T30,Q30,N30,K30) -> 22.2 | AO30: =H30*$H$3+N30*$N$3+Q30*$Q$3+T30*$T$3+W30*$W$3+Z30*$Z$3 -> 31.45
D31: Data availability | F31: =AVERAGE(H31,K31,N31,Q31,T31,W31,Z31,AC31) -> 24.975 | H31: =(I31-1)*33.3 -> 33.3 | I31: 2 | K31: =(L31-1)*33.3 -> 0 | L31: 1 | N31: =IF(O31=0,"",(O31-1)*33.3) -> 0 | O31: 1 | Q31: =IF(R31=0,"",(R31-1)*33.3) -> 33.3 | R31: 2 | T31: =(U31-1)*33.3 -> 33.3 | U31: 2 | W31: =(X31-1)*33.3 -> 33.3 | X31: 2 | Z31: =(AA31-1)*33.3 -> 33.3 | AA31: 2 | AC31: =(AD31-1)*33.3 -> 33.3 | AD31: 2 | AF31: =AVERAGE(T31,Q31,N31) -> 22.2 | AH31: =AVERAGE(W31,Z31) -> 33.3 | AJ31: =AVERAGE(Z31,W31,T31,Q31,N31,K31) -> 22.2 | AL31: =AVERAGE(Z31,W31,T31,Q31,N31,K31) -> 22.2 | AO31: =H31*$H$3+N31*$N$3+Q31*$Q$3+T31*$T$3+W31*$W$3+Z31*$Z$3 -> 27.75
D32: Advanced analytics tools | F32: =AVERAGE(H32,K32,N32,Q32,T32,W32,Z32,AC32) -> 24.975 | H32: =(I32-1)*33.3 -> 33.3 | I32: 2 | K32: =(L32-1)*33.3 -> 33.3 | L32: 2 | N32: =IF(O32=0,"",(O32-1)*33.3) -> 0 | O32: 1 | Q32: =IF(R32=0,"",(R32-1)*33.3) -> 0 | R32: 1 | T32: =(U32-1)*33.3 -> 66.6 | U32: 3 | W32: =(X32-1)*33.3 -> 33.3 | X32: 2 | Z32: =(AA32-1)*33.3 -> 0 | AA32: 1 | AC32: =(AD32-1)*33.3 -> 33.3 | AD32: 2 | AF32: =AVERAGE(T32,Q32,N32) -> 22.2 | AH32: =AVERAGE(W32,Z32) -> 16.65 | AJ32: =AVERAGE(Z32,W32,T32,Q32,N32,K32) -> 22.2 | AL32: =AVERAGE(Z32,W32,T32,Q32,N32,K32) -> 22.2 | AO32: =H32*$H$3+N32*$N$3+Q32*$Q$3+T32*$T$3+W32*$W$3+Z32*$Z$3 -> 24.975
D33: Cross-department integration | F33: =AVERAGE(H33,K33,N33,Q33,T33,W33,Z33,AC33) -> 24.975 | H33: =(I33-1)*33.3 -> 66.6 | I33: 3 | K33: =(L33-1)*33.3 -> 33.3 | L33: 2 | N33: =IF(O33=0,"",(O33-1)*33.3) -> 0 | O33: 1 | Q33: =IF(R33=0,"",(R33-1)*33.3) -> 0 | R33: 1 | T33: =(U33-1)*33.3 -> 66.6 | U33: 3 | W33: =(X33-1)*33.3 -> 0 | X33: 1 | Z33: =(AA33-1)*33.3 -> 33.3 | AA33: 2 | AC33: =(AD33-1)*33.3 -> 0 | AD33: 1 | AF33: =AVERAGE(T33,Q33,N33) -> 22.2 | AH33: =AVERAGE(W33,Z33) -> 16.65 | AJ33: =AVERAGE(Z33,W33,T33,Q33,N33,K33) -> 22.2 | AL33: =AVERAGE(Z33,W33,T33,Q33,N33,K33) -> 22.2 | AO33: =H33*$H$3+N33*$N$3+Q33*$Q$3+T33*$T$3+W33*$W$3+Z33*$Z$3 -> 41.625
C34: Data governance | F34: =AVERAGE(F35:F37) -> 16.65 | H34: =AVERAGE(H35:H37) -> 33.3 | K34: =AVERAGE(K35:K37) -> 11.1 | N34: =IFERROR(AVERAGE(N35:N37),"") -> 11.1 | Q34: =IFERROR(AVERAGE(Q35:Q37),"") -> 11.1 | T34: =AVERAGE(T35:T37) -> 33.3 | W34: =AVERAGE(W35:W37) -> 11.1 | Z34: =AVERAGE(Z35:Z37) -> 11.1 | AC34: =AVERAGE(AC35:AC37) -> 11.1 | AF34: =AVERAGE(T34,Q34,N34) -> 18.5 | AH34: =AVERAGE(W34,Z34) -> 11.1 | AJ34: =AVERAGE(Z34,W34,T34,Q34,N34,K34) -> 14.8 | AL34: =AVERAGE(Z34,W34,T34,Q34,N34,K34) -> 14.8 | AO34: =H34*$H$3+N34*$N$3+Q34*$Q$3+T34*$T$3+W34*$W$3+Z34*$Z$3 -> 23.125
D35: Data policies and management | F35: =AVERAGE(H35,K35,N35,Q35,T35,W35,Z35,AC35) -> 12.4875 | H35: =(I35-1)*33.3 -> 33.3 | I35: 2 | K35: =(L35-1)*33.3 -> 0 | L35: 1 | N35: =IF(O35=0,"",(O35-1)*33.3) -> 0 | O35: 1 | Q35: =IF(R35=0,"",(R35-1)*33.3) -> 33.3 | R35: 2 | T35: =(U35-1)*33.3 -> 0 | U35: 1 | W35: =(X35-1)*33.3 -> 33.3 | X35: 2 | Z35: =(AA35-1)*33.3 -> 0 | AA35: 1 | AC35: =(AD35-1)*33.3 -> 0 | AD35: 1 | AF35: =AVERAGE(T35,Q35,N35) -> 11.1 | AH35: =AVERAGE(W35,Z35) -> 16.65 | AJ35: =AVERAGE(Z35,W35,T35,Q35,N35,K35) -> 11.1 | AL35: =AVERAGE(Z35,W35,T35,Q35,N35,K35) -> 11.1 | AO35: =H35*$H$3+N35*$N$3+Q35*$Q$3+T35*$T$3+W35*$W$3+Z35*$Z$3 -> 22.2
D36: Data model & architecture | F36: =AVERAGE(H36,K36,N36,Q36,T36,W36,Z36,AC36) -> 24.975 | H36: =(I36-1)*33.3 -> 33.3 | I36: 2 | K36: =(L36-1)*33.3 -> 33.3 | L36: 2 | N36: =IF(O36=0,"",(O36-1)*33.3) -> 33.3 | O36: 2 | Q36: =IF(R36=0,"",(R36-1)*33.3) -> 0 | R36: 1 | T36: =(U36-1)*33.3 -> 33.3 | U36: 2 | W36: =(X36-1)*33.3 -> 0 | X36: 1 | Z36: =(AA36-1)*33.3 -> 33.3 | AA36: 2 | AC36: =(AD36-1)*33.3 -> 33.3 | AD36: 2 | AF36: =AVERAGE(T36,Q36,N36) -> 22.2 | AH36: =AVERAGE(W36,Z36) -> 16.65 | AJ36: =AVERAGE(Z36,W36,T36,Q36,N36,K36) -> 22.2 | AL36: =AVERAGE(Z36,W36,T36,Q36,N36,K36) -> 22.2 | AO36: =H36*$H$3+N36*$N$3+Q36*$Q$3+T36*$T$3+W36*$W$3+Z36*$Z$3 -> 24.975
D37: Data-driven culture | F37: =AVERAGE(H37,K37,N37,Q37,T37,W37,Z37,AC37) -> 12.4875 | H37: =(I37-1)*33.3 -> 33.3 | I37: 2 | K37: =(L37-1)*33.3 -> 0 | L37: 1 | N37: =IF(O37=0,"",(O37-1)*33.3) -> 0 | O37: 1 | Q37: =IF(R37=0,"",(R37-1)*33.3) -> 0 | R37: 1 | T37: =(U37-1)*33.3 -> 66.6 | U37: 3 | W37: =(X37-1)*33.3 -> 0 | X37: 1 | Z37: =(AA37-1)*33.3 -> 0 | AA37: 1 | AC37: =(AD37-1)*33.3 -> 0 | AD37: 1 | AF37: =AVERAGE(T37,Q37,N37) -> 22.2 | AH37: =AVERAGE(W37,Z37) -> 0 | AJ37: =AVERAGE(Z37,W37,T37,Q37,N37,K37) -> 11.1 | AL37: =AVERAGE(Z37,W37,T37,Q37,N37,K37) -> 11.1 | AO37: =H37*$H$3+N37*$N$3+Q37*$Q$3+T37*$T$3+W37*$W$3+Z37*$Z$3 -> 22.2
C38: Integration & partner ecosystem | F38: =AVERAGE(F39:F41) -> 26.3625 | H38: =AVERAGE(H39:H41) -> 22.2 | K38: =AVERAGE(K39:K41) -> 22.2 | N38: =IFERROR(AVERAGE(N39:N41),"") -> 11.1 | Q38: =IFERROR(AVERAGE(Q39:Q41),"") -> 11.1 | T38: =AVERAGE(T39:T41) -> 55.5 | W38: =AVERAGE(W39:W41) -> 22.2 | Z38: =AVERAGE(Z39:Z41) -> 22.2 | AC38: =AVERAGE(AC39:AC41) -> 44.4 | AF38: =AVERAGE(T38,Q38,N38) -> 25.9 | AH38: =AVERAGE(W38,Z38) -> 22.2 | AJ38: =AVERAGE(Z38,W38,T38,Q38,N38,K38) -> 24.05 | AL38: =AVERAGE(Z38,W38,T38,Q38,N38,K38) -> 24.05 | AO38: =H38*$H$3+N38*$N$3+Q38*$Q$3+T38*$T$3+W38*$W$3+Z38*$Z$3 -> 21.275
D39: Partner integration | F39: =AVERAGE(H39,K39,N39,Q39,T39,W39,Z39,AC39) -> 24.975 | H39: =(I39-1)*33.3 -> 33.3 | I39: 2 | K39: =(L39-1)*33.3 -> 33.3 | L39: 2 | N39: =IF(O39=0,"",(O39-1)*33.3) -> 0 | O39: 1 | Q39: =IF(R39=0,"",(R39-1)*33.3) -> 33.3 | R39: 2 | T39: =(U39-1)*33.3 -> 33.3 | U39: 2 | W39: =(X39-1)*33.3 -> 0 | X39: 1 | Z39: =(AA39-1)*33.3 -> 33.3 | AA39: 2 | AC39: =(AD39-1)*33.3 -> 33.3 | AD39: 2 | AF39: =AVERAGE(T39,Q39,N39) -> 22.2 | AH39: =AVERAGE(W39,Z39) -> 16.65 | AJ39: =AVERAGE(Z39,W39,T39,Q39,N39,K39) -> 22.2 | AL39: =AVERAGE(Z39,W39,T39,Q39,N39,K39) -> 22.2 | AO39: =H39*$H$3+N39*$N$3+Q39*$Q$3+T39*$T$3+W39*$W$3+Z39*$Z$3 -> 24.975
D40: Open protocols/data exchange | F40: =AVERAGE(H40,K40,N40,Q40,T40,W40,Z40,AC40) -> 33.3 | H40: =(I40-1)*33.3 -> 33.3 | I40: 2 | K40: =(L40-1)*33.3 -> 0 | L40: 1 | N40: =IF(O40=0,"",(O40-1)*33.3) -> 33.3 | O40: 2 | Q40: =IF(R40=0,"",(R40-1)*33.3) -> 0 | R40: 1 | T40: =(U40-1)*33.3 -> 66.6 | U40: 3 | W40: =(X40-1)*33.3 -> 33.3 | X40: 2 | Z40: =(AA40-1)*33.3 -> 33.3 | AA40: 2 | AC40: =(AD40-1)*33.3 -> 66.6 | AD40: 3 | AF40: =AVERAGE(T40,Q40,N40) -> 33.3 | AH40: =AVERAGE(W40,Z40) -> 33.3 | AJ40: =AVERAGE(Z40,W40,T40,Q40,N40,K40) -> 27.75 | AL40: =AVERAGE(Z40,W40,T40,Q40,N40,K40) -> 27.75 | AO40: =H40*$H$3+N40*$N$3+Q40*$Q$3+T40*$T$3+W40*$W$3+Z40*$Z$3 -> 30.525
D41: Outsourcing capability | F41: =AVERAGE(H41,K41,N41,Q41,T41,W41,Z41,AC41) -> 20.8125 | H41: =(I41-1)*33.3 -> 0 | I41: 1 | K41: =(L41-1)*33.3 -> 33.3 | L41: 2 | N41: =IF(O41=0,"",(O41-1)*33.3) -> 0 | O41: 1 | Q41: =IF(R41=0,"",(R41-1)*33.3) -> 0 | R41: 1 | T41: =(U41-1)*33.3 -> 66.6 | U41: 3 | W41: =(X41-1)*33.3 -> 33.3 | X41: 2 | Z41: =(AA41-1)*33.3 -> 0 | AA41: 1 | AC41: =(AD41-1)*33.3 -> 33.3 | AD41: 2 | AF41: =AVERAGE(T41,Q41,N41) -> 22.2 | AH41: =AVERAGE(W41,Z41) -> 16.65 | AJ41: =AVERAGE(Z41,W41,T41,Q41,N41,K41) -> 22.2 | AL41: =AVERAGE(Z41,W41,T41,Q41,N41,K41) -> 22.2 | AO41: =H41*$H$3+N41*$N$3+Q41*$Q$3+T41*$T$3+W41*$W$3+Z41*$Z$3 -> 8.325
...

Sheet DMA_Scores_Roman
B2: DMA | F2: Across topics | H2: IDDA | K2: MDDT | N2: Maritime | Q2: Aviation | T2: AYNA | W2: ESS | Z2: ICTA | AC2: MoJ
K3: Still incomplete | T3: Still incomplete
B4: Pillars | C4: Domains | D4: Capabilities | F4: =AVERAGE(F7:F10,F13:F15,F17:F19,F21:F23,F26:F28,F30:F32,F34:F36,F38:F40,F42:F45,F47:F49,F52:F54,F56:F58,F60:F62,) -> 17.34375 | H4: =AVERAGE(H7:H10,H13:H15,H17:H19,H21:H23,H26:H28,H30:H32,H34:H36,H38:H40,H42:H45,H47:H49,H52:H54,H56:H58,H60:H62,) -> 41.228571 | K4: =AVERAGE(K7:K10,K13:K15,K17:K19,K21:K23,K26:K28,K30:K32,K34:K36,K38:K40,K42:K45,K47:K49,K52:K54,K56:K58,K60:K62,) -> -2.3785714 | N4: =AVERAGE(N7:N10,N13:N15,N17:N19,N21:N23,N26:N28,N30:N32,N34:N36,N38:N40,N42:N45,N47:N49,N52:N54,N56:N58,N60:N62,) -> 23.785714 | Q4: =AVERAGE(Q7:Q10,Q13:Q15,Q17:Q19,Q21:Q23,Q26:Q28,Q30:Q32,Q34:Q36,Q38:Q40,Q42:Q45,Q47:Q49,Q52:Q54,Q56:Q58,Q60:Q62,) -> 11.892857 | T4: =AVERAGE(T7:T10,T13:T15,T17:T19,T21:T23,T26:T28,T30:T32,T34:T36,T38:T40,T42:T45,T47:T49,T52:T54,T56:T58,T60:T62,) -> -0.79285714 | W4: =AVERAGE(W7:W10,W13:W15,W17:W19,W21:W23,W26:W28,W30:W32,W34:W36,W38:W40,W42:W45,W47:W49,W52:W54,W56:W58,W60:W62,) -> 22.2 | Z4: =AVERAGE(Z7:Z10,Z13:Z15,Z17:Z19,Z21:Z23,Z26:Z28,Z30:Z32,Z34:Z36,Z38:Z40,Z42:Z45,Z47:Z49,Z52:Z54,Z56:Z58,Z60:Z62,) -> 24.578571 | AC4: =AVERAGE(AC7:AC10,AC13:AC15,AC17:AC19,AC21:AC23,AC26:AC28,AC30:AC32,AC34:AC36,AC38:AC40,AC42:AC45,AC47:AC49,AC52:AC54,AC56:AC58,AC60:AC62,) -> 18.235714
B5: Strategy | F5: =F6 -> 19.771875 | H5: =H6 -> 41.625 | K5: =K6 -> 16.65 | N5: =N6 -> 24.975 | Q5: =Q6 -> 0 | T5: =T6 -> 24.975 | W5: =W6 -> 16.65 | Z5: =Z6 -> 8.325 | AC5: =AC6 -> 24.975
C6: Vision and roadmap | F6: =AVERAGE(F7:F10) -> 19.771875 | H6: =AVERAGE(H7:H10) -> 41.625 | K6: =AVERAGE(K7:K10) -> 16.65 | N6: =IFERROR(AVERAGE(N7:N10),"") -> 24.975 | Q6: =IFERROR(AVERAGE(Q7:Q10),"") -> 0 | T6: =AVERAGE(T7:T10) -> 24.975 | W6: =AVERAGE(W7:W10) -> 16.65 | Z6: =AVERAGE(Z7:Z10) -> 8.325 | AC6: =AVERAGE(AC7:AC10) -> 24.975
D7: Target state definition | F7: =AVERAGE(H7,K7,N7,Q7,T7,W7,Z7,AC7) -> 33.3 | H7: =(I7-1)*33.3 -> 66.6 | I7: 3 | K7: =(L7-1)*33.3 -> 33.3 | L7: 2 | N7: =IF(O7=0,"",(O7-1)*33.3) -> 33.3 | O7: =INDEX(Maritime!$G:$G,MATCH($D7,Maritime!$D:$D,0)) -> 2 | Q7: =IF(R7=0,"",(R7-1)*33.3) -> 0 | R7: =INDEX(Aviation!$G:$G,MATCH($D7,Aviation!$D:$D,0)) -> 1 | T7: =(U7-1)*33.3 -> 33.3 | U7: 2 | W7: =(X7-1)*33.3 -> 33.3 | X7: 2 | Z7: =(AA7-1)*33.3 -> 33.3 | AA7: 2 | AC7: =(AD7-1)*33.3 -> 33.3 | AD7: 2
D8: Engagement & communication | F8: =AVERAGE(H8,K8,N8,Q8,T8,W8,Z8,AC8) -> 8.325 | H8: =(I8-1)*33.3 -> 33.3 | I8: 2 | K8: =(L8-1)*33.3 -> 0 | L8: 1 | N8: =IF(O8=0,"",(O8-1)*33.3) -> 0 | O8: =INDEX(Maritime!$G:$G,MATCH($D8,Maritime!$D:$D,0)) -> 1 | Q8: =IF(R8=0,"",(R8-1)*33.3) -> 0 | R8: =INDEX(Aviation!$G:$G,MATCH($D8,Aviation!$D:$D,0)) -> 1 | T8: =(U8-1)*33.3 -> 33.3 | U8: 2 | W8: =(X8-1)*33.3 -> 0 | X8: 1 | Z8: =(AA8-1)*33.3 -> 0 | AA8: 1 | AC8: =(AD8-1)*33.3 -> 0 | AD8: 1
D9: Implementation roadmap | F9: =AVERAGE(H9,K9,N9,Q9,T9,W9,Z9,AC9) -> 20.8125 | H9: =(I9-1)*33.3 -> 33.3 | I9: 2 | K9: =(L9-1)*33.3 -> 33.3 | L9: 2 | N9: =IF(O9=0,"",(O9-1)*33.3) -> 33.3 | O9: =INDEX(Maritime!$G:$G,MATCH($D9,Maritime!$D:$D,0)) -> 2 | Q9: =IF(R9=0,"",(R9-1)*33.3) -> 0 | R9: =INDEX(Aviation!$G:$G,MATCH($D9,Aviation!$D:$D,0)) -> 1 | T9: =(U9-1)*33.3 -> 0 | U9: 1 | W9: =(X9-1)*33.3 -> 33.3 | X9: 2 | Z9: =(AA9-1)*33.3 -> 0 | AA9: 1 | AC9: =(AD9-1)*33.3 -> 33.3 | AD9: 2
D10: Digital related KPIs | F10: =AVERAGE(H10,K10,N10,Q10,T10,W10,Z10,AC10) -> 16.65 | H10: =(I10-1)*33.3 -> 33.3 | I10: 2 | K10: =(L10-1)*33.3 -> 0 | L10: 1 | N10: =IF(O10=0,"",(O10-1)*33.3) -> 33.3 | O10: =INDEX(Maritime!$G:$G,MATCH($D10,Maritime!$D:$D,0)) -> 2 | Q10: =IF(R10=0,"",(R10-1)*33.3) -> 0 | R10: =INDEX(Aviation!$G:$G,MATCH($D10,Aviation!$D:$D,0)) -> 1 | T10: =(U10-1)*33.3 -> 33.3 | U10: 2 | W10: =(X10-1)*33.3 -> 0 | X10: 1 | Z10: =(AA10-1)*33.3 -> 0 | AA10: 1 | AC10: =(AD10-1)*33.3 -> 33.3 | AD10: 2
B11: Services provided | F11: =AVERAGE(F13:F15,F17:F19,F21:F23) -> 30.0625 | H11: =AVERAGE(H13:H15,H17:H19,H21:H23) -> 51.8 | K11: =AVERAGE(K13:K15,K17:K19,K21:K23) -> 25.9 | N11: =IFERROR(AVERAGE(N12,N16,N20),"") -> 33.3 | Q11: =IFERROR(AVERAGE(Q12,Q16,Q20),"") -> 11.1 | T11: =AVERAGE(T13:T15,T17:T19,T21:T23) -> 29.6 | W11: =AVERAGE(W13:W15,W17:W19,W21:W23) -> 25.9 | Z11: =AVERAGE(Z13:Z15,Z17:Z19,Z21:Z23) -> 33.3 | AC11: =AVERAGE(AC13:AC15,AC17:AC19,AC21:AC23) -> 29.6
C12: Service digitalization | F12: =AVERAGE(F13:F15) -> 31.9125 | H12: =AVERAGE(H13:H15) -> 55.5 | K12: =AVERAGE(K13:K15) -> 33.3 | N12: =IFERROR(AVERAGE(N13:N15),"") -> 33.3 | Q12: =IFERROR(AVERAGE(Q13:Q15),"") -> 22.2 | T12: =AVERAGE(T13:T15) -> 22.2 | W12: =AVERAGE(W13:W15) -> 33.3 | Z12: =AVERAGE(Z13:Z15) -> 33.3 | AC12: =AVERAGE(AC13:AC15) -> 22.2
D13: Share of digital services | F13: =AVERAGE(H13,K13,N13,Q13,T13,W13,Z13,AC13) -> 33.3 | H13: =(I13-1)*33.3 -> 66.6 | I13: 3 | K13: =(L13-1)*33.3 -> 33.3 | L13: 2 | N13: =IF(O13=0,"",(O13-1)*33.3) -> 33.3 | O13: =INDEX(Maritime!$G:$G,MATCH($D13,Maritime!$D:$D,0)) -> 2 | Q13: =IF(R13=0,"",(R13-1)*33.3) -> 33.3 | R13: =INDEX(Aviation!$G:$G,MATCH($D13,Aviation!$D:$D,0)) -> 2 | T13: =(U13-1)*33.3 -> 0 | U13: 1 | W13: =(X13-1)*33.3 -> 33.3 | X13: 2 | Z13: =(AA13-1)*33.3 -> 33.3 | AA13: 2 | AC13: =(AD13-1)*33.3 -> 33.3 | AD13: 2
D14: Automation level | F14: =AVERAGE(H14,K14,N14,Q14,T14,W14,Z14,AC14) -> 29.1375 | H14: =(I14-1)*33.3 -> 66.6 | I14: 3 | K14: =(L14-1)*33.3 -> 33.3 | L14: 2 | N14: =IF(O14=0,"",(O14-1)*33.3) -> 33.3 | O14: =INDEX(Maritime!$G:$G,MATCH($D14,Maritime!$D:$D,0)) -> 2 | Q14: =IF(R14=0,"",(R14-1)*33.3) -> 0 | R14: =INDEX(Aviation!$G:$G,MATCH($D14,Aviation!$D:$D,0)) -> 1 | T14: =(U14-1)*33.3 -> 33.3 | U14: 2 | W14: =(X14-1)*33.3 -> 33.3 | X14: 2 | Z14: =(AA14-1)*33.3 -> 33.3 | AA14: 2 | AC14: =(AD14-1)*33.3 -> 0 | AD14: 1
D15: Service quality and reliability | F15: =AVERAGE(H15,K15,N15,Q15,T15,W15,Z15,AC15) -> 33.3 | H15: =(I15-1)*33.3 -> 33.3 | I15: 2 | K15: =(L15-1)*33.3 -> 33.3 | L15: 2 | N15: =IF(O15=0,"",(O15-1)*33.3) -> 33.3 | O15: =INDEX(Maritime!$G:$G,MATCH($D15,Maritime!$D:$D,0)) -> 2 | Q15: =IF(R15=0,"",(R15-1)*33.3) -> 33.3 | R15: =INDEX(Aviation!$G:$G,MATCH($D15,Aviation!$D:$D,0)) -> 2 | T15: =(U15-1)*33.3 -> 33.3 | U15: 2 | W15: =(X15-1)*33.3 -> 33.3 | X15: 2 | Z15: =(AA15-1)*33.3 -> 33.3 | AA15: 2 | AC15: =(AD15-1)*33.3 -> 33.3 | AD15: 2
C16: User experience | F16: =AVERAGE(H16,K16,N16,Q16,T16,W16,Z16,AC16) -> 29.1375 | H16: =AVERAGE(H17:H19) -> 44.4 | K16: =AVERAGE(K17:K19) -> 22.2 | N16: =IFERROR(AVERAGE(N17:N19),"") -> 33.3 | Q16: =IFERROR(AVERAGE(Q17:Q19),"") -> 11.1 | T16: =AVERAGE(T17:T19) -> 44.4 | W16: =AVERAGE(W17:W19) -> 11.1 | Z16: =AVERAGE(Z17:Z19) -> 33.3 | AC16: =AVERAGE(AC17:AC19) -> 33.3
D17: Access channels | F17: =AVERAGE(H17,K17,N17,Q17,T17,W17,Z17,AC17) -> 33.3 | H17: =(I17-1)*33.3 -> 33.3 | I17: 2 | K17: =(L17-1)*33.3 -> 0 | L17: 1 | N17: =IF(O17=0,"",(O17-1)*33.3) -> 33.3 | O17: =INDEX(Maritime!$G:$G,MATCH($D17,Maritime!$D:$D,0)) -> 2 | Q17: =IF(R17=0,"",(R17-1)*33.3) -> 0 | R17: =INDEX(Aviation!$G:$G,MATCH($D17,Aviation!$D:$D,0)) -> 1 | T17: =(U17-1)*33.3 -> 66.6 | U17: 3 | W17: =(X17-1)*33.3 -> 33.3 | X17: 2 | Z17: =(AA17-1)*33.3 -> 66.6 | AA17: 3 | AC17: =(AD17-1)*33.3 -> 33.3 | AD17: 2
D18: Citizen journey | F18: =AVERAGE(H18,K18,N18,Q18,T18,W18,Z18,AC18) -> 33.3 | H18: =(I18-1)*33.3 -> 66.6 | I18: 3 | K18: =(L18-1)*33.3 -> 33.3 | L18: 2 | N18: =IF(O18=0,"",(O18-1)*33.3) -> 33.3 | O18: =INDEX(Maritime!$G:$G,MATCH($D18,Maritime!$D:$D,0)) -> 2 | Q18: =IF(R18=0,"",(R18-1)*33.3) -> 33.3 | R18: =INDEX(Aviation!$G:$G,MATCH($D18,Aviation!$D:$D,0)) -> 2 | T18: =(U18-1)*33.3 -> 33.3 | U18: 2 | W18: =(X18-1)*33.3 -> 0 | X18: 1 | Z18: =(AA18-1)*33.3 -> 33.3 | AA18: 2 | AC18: =(AD18-1)*33.3 -> 33.3 | AD18: 2
D19: Accessibility and inclusion | F19: =AVERAGE(H19,K19,N19,Q19,T19,W19,Z19,AC19) -> 20.8125 | H19: =(I19-1)*33.3 -> 33.3 | I19: 2 | K19: =(L19-1)*33.3 -> 33.3 | L19: 2 | N19: =IF(O19=0,"",(O19-1)*33.3) -> 33.3 | O19: =INDEX(Maritime!$G:$G,MATCH($D19,Maritime!$D:$D,0)) -> 2 | Q19: =IF(R19=0,"",(R19-1)*33.3) -> 0 | R19: =INDEX(Aviation!$G:$G,MATCH($D19,Aviation!$D:$D,0)) -> 1 | T19: =(U19-1)*33.3 -> 33.3 | U19: 2 | W19: =(X19-1)*33.3 -> 0 | X19: 1 | Z19: =(AA19-1)*33.3 -> 0 | AA19: 1 | AC19: =(AD19-1)*33.3 -> 33.3 | AD19: 2
C20: New services development | F20: =AVERAGE(H20,K20,N20,Q20,T20,W20,Z20,AC20) -> 29.1375 | H20: =AVERAGE(H21:H23) -> 55.5 | K20: =AVERAGE(K21:K23) -> 22.2 | N20: =IFERROR(AVERAGE(N21:N23),"") -> 33.3 | Q20: =IFERROR(AVERAGE(Q21:Q23),"") -> 0 | T20: =AVERAGE(T21:T23) -> 22.2 | W20: =AVERAGE(W21:W23) -> 33.3 | Z20: =AVERAGE(Z21:Z23) -> 33.3 | AC20: =AVERAGE(AC21:AC23) -> 33.3
D21: Digital service lifecycle | F21: =AVERAGE(H21,K21,N21,Q21,T21,W21,Z21,AC21) -> 33.3 | H21: =(I21-1)*33.3 -> 66.6 | I21: 3 | K21: =(L21-1)*33.3 -> 33.3 | L21: 2 | N21: =IF(O21=0,"",(O21-1)*33.3) -> 33.3 | O21: =INDEX(Maritime!$G:$G,MATCH($D21,Maritime!$D:$D,0)) -> 2 | Q21: =IF(R21=0,"",(R21-1)*33.3) -> 0 | R21: =INDEX(Aviation!$G:$G,MATCH($D21,Aviation!$D:$D,0)) -> 1 | T21: =(U21-1)*33.3 -> 33.3 | U21: 2 | W21: =(X21-1)*33.3 -> 33.3 | X21: 2 | Z21: =(AA21-1)*33.3 -> 33.3 | AA21: 2 | AC21: =(AD21-1)*33.3 -> 33.3 | AD21: 2
D22: Service creation/enhancement | F22: =AVERAGE(H22,K22,N22,Q22,T22,W22,Z22,AC22) -> 29.1375 | H22: =(I22-1)*33.3 -> 33.3 | I22: 2 | K22: =(L22-1)*33.3 -> 33.3 | L22: 2 | N22: =IF(O22=0,"",(O22-1)*33.3) -> 33.3 | O22: =INDEX(Maritime!$G:$G,MATCH($D22,Maritime!$D:$D,0)) -> 2 | Q22: =IF(R22=0,"",(R22-1)*33.3) -> 0 | R22: =INDEX(Aviation!$G:$G,MATCH($D22,Aviation!$D:$D,0)) -> 1 | T22: =(U22-1)*33.3 -> 33.3 | U22: 2 | W22: =(X22-1)*33.3 -> 33.3 | X22: 2 | Z22: =(AA22-1)*33.3 -> 33.3 | AA22: 2 | AC22: =(AD22-1)*33.3 -> 33.3 | AD22: 2
D23: Testing and rollout strategies | F23: =AVERAGE(H23,K23,N23,Q23,T23,W23,Z23,AC23) -> 24.975 | H23: =(I23-1)*33.3 -> 66.6 | I23: 3 | K23: =(L23-1)*33.3 -> 0 | L23: 1 | N23: =IF(O23=0,"",(O23-1)*33.3) -> 33.3 | O23: =INDEX(Maritime!$G:$G,MATCH($D23,Maritime!$D:$D,0)) -> 2 | Q23: =IF(R23=0,"",(R23-1)*33.3) -> 0 | R23: =INDEX(Aviation!$G:$G,MATCH($D23,Aviation!$D:$D,0)) -> 1 | T23: =(U23-1)*33.3 -> 0 | U23: 1 | W23: =(X23-1)*33.3 -> 33.3 | X23: 2 | Z23: =(AA23-1)*33.3 -> 33.3 | AA23: 2 | AC23: =(AD23-1)*33.3 -> 33.3 | AD23: 2
B24: Capabilities | F24: =AVERAGE(F26:F28,F30:F32,F34:F36,F38:F40,F42:F45,F47:F49) -> 8.1059211 | H24: =AVERAGE(H26:H28,H30:H32,H34:H36,H38:H40,H42:H45,H47:H49) -> 35.052632 | K24: =AVERAGE(K26:K28,K30:K32,K34:K36,K38:K40,K42:K45,K47:K49) -> -33.3 | N24: =IFERROR(AVERAGE(N25,N29,N33,N37,N41,N46),"") -> 20.35 | Q24: =IFERROR(AVERAGE(Q25,Q29,Q33,Q37,Q41,Q46),"") -> 15.725 | T24: =AVERAGE(T26:T28,T30:T32,T34:T36,T38:T40,T42:T45,T47:T49) -> -33.3 | W24: =AVERAGE(W26:W28,W30:W32,W34:W36,W38:W40,W42:W45,W47:W49) -> 21.031579 | Z24: =AVERAGE(Z26:Z28,Z30:Z32,Z34:Z36,Z38:Z40,Z42:Z45,Z47:Z49) -> 24.536842 | AC24: =AVERAGE(AC26:AC28,AC30:AC32,AC34:AC36,AC38:AC40,AC42:AC45,AC47:AC49) -> 14.021053
C25: Architecture & infrastructure | F25: =AVERAGE(H25,K25,N25,Q25,T25,W25,Z25,AC25) -> 15.2625 | H25: =AVERAGE(H26:H28) -> 44.4 | K25: =AVERAGE(K26:K28) -> -33.3 | N25: =IFERROR(AVERAGE(N26:N28),"") -> 33.3 | Q25: =IFERROR(AVERAGE(Q26:Q28),"") -> 33.3 | T25: =AVERAGE(T26:T28) -> -33.3 | W25: =AVERAGE(W26:W28) -> 22.2 | Z25: =AVERAGE(Z26:Z28) -> 33.3 | AC25: =AVERAGE(AC26:AC28) -> 22.2
D26: Architecture & Infrastructure | F26: =AVERAGE(H26,K26,N26,Q26,T26,W26,Z26,AC26) -> 20.8125 | H26: =(I26-1)*33.3 -> 33.3 | I26: 2 | K26: =(L26-1)*33.3 -> -33.3 | N26: =IF(O26=0,"",(O26-1)*33.3) -> 66.6 | O26: 3 | Q26: =IF(R26=0,"",(R26-1)*33.3) -> 66.6 | R26: 3 | T26: =(U26-1)*33.3 -> -33.3 | W26: =(X26-1)*33.3 -> 0 | X26: 1 | Z26: =(AA26-1)*33.3 -> 33.3 | AA26: 2 | AC26: =(AD26-1)*33.3 -> 33.3 | AD26: 2
D27: Cloud adoption | F27: =AVERAGE(H27,K27,N27,Q27,T27,W27,Z27,AC27) -> 16.65 | H27: =(I27-1)*33.3 -> 66.6 | I27: 3 | K27: =(L27-1)*33.3 -> -33.3 | N27: =IF(O27=0,"",(O27-1)*33.3) -> 0 | O27: 1 | Q27: =IF(R27=0,"",(R27-1)*33.3) -> 33.3 | R27: 2 | T27: =(U27-1)*33.3 -> -33.3 | W27: =(X27-1)*33.3 -> 33.3 | X27: 2 | Z27: =(AA27-1)*33.3 -> 33.3 | AA27: 2 | AC27: =(AD27-1)*33.3 -> 33.3 | AD27: 2
D28: Performance management | F28: =AVERAGE(H28,K28,N28,Q28,T28,W28,Z28,AC28) -> 8.325 | H28: =(I28-1)*33.3 -> 33.3 | I28: 2 | K28: =(L28-1)*33.3 -> -33.3 | N28: =IF(O28=0,"",(O28-1)*33.3) -> 33.3 | O28: 2 | Q28: =IF(R28=0,"",(R28-1)*33.3) -> 0 | R28: 1 | T28: =(U28-1)*33.3 -> -33.3 | W28: =(X28-1)*33.3 -> 33.3 | X28: 2 | Z28: =(AA28-1)*33.3 -> 33.3 | AA28: 2 | AC28: =(AD28-1)*33.3 -> 0 | AD28: 1
C29: Analytics & AI | F29: =AVERAGE(F30:F32) -> 5.55 | H29: =AVERAGE(H30:H32) -> 44.4 | K29: =AVERAGE(K30:K32) -> -33.3 | N29: =IFERROR(AVERAGE(N30:N32),"") -> 0 | Q29: =IFERROR(AVERAGE(Q30:Q32),"") -> 11.1 | T29: =AVERAGE(T30:T32) -> -33.3 | W29: =AVERAGE(W30:W32) -> 22.2 | Z29: =AVERAGE(Z30:Z32) -> 22.2 | AC29: =AVERAGE(AC30:AC32) -> 11.1
D30: Data availability | F30: =AVERAGE(H30,K30,N30,Q30,T30,W30,Z30,AC30) -> 8.325 | H30: =(I30-1)*33.3 -> 33.3 | I30: 2 | K30: =(L30-1)*33.3 -> -33.3 | N30: =IF(O30=0,"",(O30-1)*33.3) -> 0 | O30: 1 | Q30: =IF(R30=0,"",(R30-1)*33.3) -> 33.3 | R30: 2 | T30: =(U30-1)*33.3 -> -33.3 | W30: =(X30-1)*33.3 -> 33.3 | X30: 2 | Z30: =(AA30-1)*33.3 -> 33.3 | AA30: 2 | AC30: =(AD30-1)*33.3 -> 0 | AD30: 1
D31: Advanced analytics tools | F31: =AVERAGE(H31,K31,N31,Q31,T31,W31,Z31,AC31) -> 4.1625 | H31: =(I31-1)*33.3 -> 33.3 | I31: 2 | K31: =(L31-1)*33.3 -> -33.3 | N31: =IF(O31=0,"",(O31-1)*33.3) -> 0 | O31: 1 | Q31: =IF(R31=0,"",(R31-1)*33.3) -> 0 | R31: 1 | T31: =(U31-1)*33.3 -> -33.3 | W31: =(X31-1)*33.3 -> 33.3 | X31: 2 | Z31: =(AA31-1)*33.3 -> 0 | AA31: 1 | AC31: =(AD31-1)*33.3 -> 33.3 | AD31: 2
D32: Cross-department integration | F32: =AVERAGE(H32,K32,N32,Q32,T32,W32,Z32,AC32) -> 4.1625 | H32: =(I32-1)*33.3 -> 66.6 | I32: 3 | K32: =(L32-1)*33.3 -> -33.3 | N32: =IF(O32=0,"",(O32-1)*33.3) -> 0 | O32: 1 | Q32: =IF(R32=0,"",(R32-1)*33.3) -> 0 | R32: 1 | T32: =(U32-1)*33.3 -> -33.3 | W32: =(X32-1)*33.3 -> 0 | X32: 1 | Z32: =(AA32-1)*33.3 -> 33.3 | AA32: 2 | AC32: =(AD32-1)*33.3 -> 0 | AD32: 1
C33: Data governance | F33: =AVERAGE(F34:F36) -> 1.3875 | H33: =AVERAGE(H34:H36) -> 33.3 | K33: =AVERAGE(K34:K36) -> -33.3 | N33: =IFERROR(AVERAGE(N34:N36),"") -> 11.1 | Q33: =IFERROR(AVERAGE(Q34:Q36),"") -> 11.1 | T33: =AVERAGE(T34:T36) -> -33.3 | W33: =AVERAGE(W34:W36) -> 0 | Z33: =AVERAGE(Z34:Z36) -> 11.1 | AC33: =AVERAGE(AC34:AC36) -> 11.1
D34: Data policies and management | F34: =AVERAGE(H34,K34,N34,Q34,T34,W34,Z34,AC34) -> 0 | H34: =(I34-1)*33.3 -> 33.3 | I34: 2 | K34: =(L34-1)*33.3 -> -33.3 | N34: =IF(O34=0,"",(O34-1)*33.3) -> 0 | O34: 1 | Q34: =IF(R34=0,"",(R34-1)*33.3) -> 33.3 | R34: 2 | T34: =(U34-1)*33.3 -> -33.3 | W34: =(X34-1)*33.3 -> 0 | X34: 1 | Z34: =(AA34-1)*33.3 -> 0 | AA34: 1 | AC34: =(AD34-1)*33.3 -> 0 | AD34: 1
D35: Data model & architecture | F35: =AVERAGE(H35,K35,N35,Q35,T35,W35,Z35,AC35) -> 8.325 | H35: =(I35-1)*33.3 -> 33.3 | I35: 2 | K35: =(L35-1)*33.3 -> -33.3 | N35: =IF(O35=0,"",(O35-1)*33.3) -> 33.3 | O35: 2 | Q35: =IF(R35=0,"",(R35-1)*33.3) -> 0 | R35: 1 | T35: =(U35-1)*33.3 -> -33.3 | W35: =(X35-1)*33.3 -> 0 | X35: 1 | Z35: =(AA35-1)*33.3 -> 33.3 | AA35: 2 | AC35: =(AD35-1)*33.3 -> 33.3 | AD35: 2
D36: Data-driven culture | F36: =AVERAGE(H36,K36,N36,Q36,T36,W36,Z36,AC36) -> -4.1625 | H36: =(I36-1)*33.3 -> 33.3 | I36: 2 | K36: =(L36-1)*33.3 -> -33.3 | N36: =IF(O36=0,"",(O36-1)*33.3) -> 0 | O36: 1 | Q36: =IF(R36=0,"",(R36-1)*33.3) -> 0 | R36: 1 | T36: =(U36-1)*33.3 -> -33.3 | W36: =(X36-1)*33.3 -> 0 | X36: 1 | Z36: =(AA36-1)*33.3 -> 0 | AA36: 1 | AC36: =(AD36-1)*33.3 -> 0 | AD36: 1
C37: Integration & partner ecosystem | F37: =AVERAGE(F38:F40) -> 2.775 | H37: =AVERAGE(H38:H40) -> 22.2 | K37: =AVERAGE(K38:K40) -> -33.3 | N37: =IFERROR(AVERAGE(N38:N40),"") -> 11.1 | Q37: =IFERROR(AVERAGE(Q38:Q40),"") -> 11.1 | T37: =AVERAGE(T38:T40) -> -33.3 | W37: =AVERAGE(W38:W40) -> 11.1 | Z37: =AVERAGE(Z38:Z40) -> 22.2 | AC37: =AVERAGE(AC38:AC40) -> 11.1
D38: Partner integration | F38: =AVERAGE(H38,K38,N38,Q38,T38,W38,Z38,AC38) -> 4.1625 | H38: =(I38-1)*33.3 -> 33.3 | I38: 2 | K38: =(L38-1)*33.3 -> -33.3 | N38: =IF(O38=0,"",(O38-1)*33.3) -> 0 | O38: 1 | Q38: =IF(R38=0,"",(R38-1)*33.3) -> 33.3 | R38: 2 | T38: =(U38-1)*33.3 -> -33.3 | W38: =(X38-1)*33.3 -> 0 | X38: 1 | Z38: =(AA38-1)*33.3 -> 33.3 | AA38: 2 | AC38: =(AD38-1)*33.3 -> 0 | AD38: 1
D39: Open protocols/data exchange | F39: =AVERAGE(H39,K39,N39,Q39,T39,W39,Z39,AC39) -> 12.4875 | H39: =(I39-1)*33.3 -> 33.3 | I39: 2 | K39: =(L39-1)*33.3 -> -33.3 | N39: =IF(O39=0,"",(O39-1)*33.3) -> 33.3 | O39: 2 | Q39: =IF(R39=0,"",(R39-1)*33.3) -> 0 | R39: 1 | T39: =(U39-1)*33.3 -> -33.3 | W39: =(X39-1)*33.3 -> 33.3 | X39: 2 | Z39: =(AA39-1)*33.3 -> 33.3 | AA39: 2 | AC39: =(AD39-1)*33.3 -> 33.3 | AD39: 2
D40: Outsourcing capability | F40: =AVERAGE(H40,K40,N40,Q40,T40,W40,Z40,AC40) -> -8.325 | H40: =(I40-1)*33.3 -> 0 | I40: 1 | K40: =(L40-1)*33.3 -> -33.3 | N40: =IF(O40=0,"",(O40-1)*33.3) -> 0 | O40: 1 | Q40: =IF(R40=0,"",(R40-1)*33.3) -> 0 | R40: 1 | T40: =(U40-1)*33.3 -> -33.3 | W40: =(X40-1)*33.3 -> 0 | X40: 1 | Z40: =(AA40-1)*33.3 -> 0 | AA40: 1 | AC40: =(AD40-1)*33.3 -> 0 | AD40: 1
C41: Cyber risk mitigation | F41: =AVERAGE(F42:F45) -> 9.365625 | H41: =AVERAGE(H42:H45) -> 24.975 | K41: =AVERAGE(K42:K45) -> -33.3 | N41: =IFERROR(AVERAGE(N42:N45),"") -> 33.3 | Q41: =IFERROR(AVERAGE(Q42:Q45),"") -> 16.65 | T41: =AVERAGE(T42:T45) -> -33.3 | W41: =AVERAGE(W42:W45) -> 41.625 | Z41: =AVERAGE(Z42:Z45) -> 16.65 | AC41: =AVERAGE(AC42:AC45) -> 8.325
...

Sheet Capabilities_AYNA MDDT
F1: Nadya | L1: Rinat
A2: DMA | D2: MDDT | F2: Justification | G2: AYNA | I2: Justification | J2: MDDT | L2: Justification | M2: AYNA | O2: Justification
D3: Still incomplete | G3: Still incomplete | J3: Still incomplete | M3: Still incomplete
A4: Pillars | B4: Domains | C4: Capabilities | D4: =AVERAGE(D7:D11,D14:D16,D18:D20,D22:D24,D27:D29,D31:D33,D35:D37,D39:D41,D43:D46,D48:D50,D53:D55,D57:D59,D61:D63,) -> 24.861404 | G4: =AVERAGE(G7:G11,G14:G16,G18:G20,G22:G24,G27:G29,G31:G33,G35:G37,G39:G41,G43:G46,G48:G50,G53:G55,G57:G59,G61:G63,) -> 26.927005 | J4: =AVERAGE(J7:J11,J14:J16,J18:J20,J22:J24,J27:J29,J31:J33,J35:J37,J39:J41,J43:J46,J48:J50,J53:J55,J57:J59,J61:J63,) -> 23.753838 | M4: =AVERAGE(M7:M11,M14:M16,M18:M20,M22:M24,M27:M29,M31:M33,M35:M37,M39:M41,M43:M46,M48:M50,M53:M55,M57:M59,M61:M63,) -> 28.298857
A5: Strategy | D5: =D6 -> 16.65 | G5: =G6 -> 24.975 | J5: =J6 -> 16.65 | M5: =M6 -> 24.975
B6: Vision and roadmap | D6: =AVERAGE(D7:D10) -> 16.65 | G6: =AVERAGE(G7:G10) -> 24.975 | J6: =AVERAGE(J7:J10) -> 16.65 | M6: =AVERAGE(M7:M10) -> 24.975
C7: Target state definition | D7: =(E7-1)*33.3 -> 33.3 | E7: 2 | G7: =(H7-1)*33.3 -> 33.3 | H7: 2 | J7: =(K7-1)*33.3 -> 33.3 | K7: 2 | M7: =(N7-1)*33.3 -> 33.3 | N7: 2
C8: Engagement & communication | D8: =(E8-1)*33.3 -> 0 | E8: 1 | G8: =(H8-1)*33.3 -> 33.3 | H8: 2 | J8: =(K8-1)*33.3 -> 0 | K8: 1 | M8: =(N8-1)*33.3 -> 33.3 | N8: 2
C9: Implementation roadmap | D9: =(E9-1)*33.3 -> 33.3 | E9: 2 | G9: =(H9-1)*33.3 -> 0 | H9: 1 | J9: =(K9-1)*33.3 -> 33.3 | K9: 2 | M9: =(N9-1)*33.3 -> 0 | N9: 1
C10: Digital related KPIs | D10: =(E10-1)*33.3 -> 0 | E10: 1 | G10: =(H10-1)*33.3 -> 33.3 | H10: 2 | J10: =(K10-1)*33.3 -> 0 | K10: 1 | M10: =(N10-1)*33.3 -> 33.3 | N10: 2
A11: Services provided | D11: =AVERAGE(D13:D15,D17:D19,D21:D22) -> 27.457895 | G11: =AVERAGE(G13:G15,G17:G19,G21:G22) -> 31.693421 | J11: =AVERAGE(J13:J15,J17:J19,J21:J22) -> 27.384868 | M11: =AVERAGE(M13:M15,M17:M19,M21:M22) -> 31.766447
B12: Service digitalization | D12: =AVERAGE(D14:D16,D18:D20,D22:D24) -> 26.841228 | G12: =AVERAGE(G14:G16,G18:G20,G22:G24) -> 29.535088 | J12: =AVERAGE(J14:J16,J18:J20,J22:J24) -> 26.614035 | M12: =AVERAGE(M14:M16,M18:M20,M22:M24) -> 29.762281
C13: Share of digital services | D13: =(E13-1)*33.3 -> 33.3 | E13: 2 | G13: =(H13-1)*33.3 -> 0 | H13: 1 | J13: =(K13-1)*33.3 -> 33.3 | K13: 2 | M13: =(N13-1)*33.3 -> 0 | N13: 1
C14: Automation level | D14: =(E14-1)*33.3 -> 33.3 | E14: 2 | G14: =(H14-1)*33.3 -> 33.3 | H14: 2 | J14: =(K14-1)*33.3 -> 33.3 | K14: 2 | M14: =(N14-1)*33.3 -> 33.3 | N14: 2
C15: Service quality and reliability | D15: =(E15-1)*33.3 -> 33.3 | E15: 2 | G15: =(H15-1)*33.3 -> 33.3 | H15: 2 | J15: =(K15-1)*33.3 -> 33.3 | K15: 2 | M15: =(N15-1)*33.3 -> 33.3 | N15: 2
B16: User experience | D16: =AVERAGE(D17:D19) -> 22.2 | G16: =AVERAGE(G17:G19) -> 44.4 | J16: =AVERAGE(J17:J19) -> 22.2 | M16: =AVERAGE(M17:M19) -> 44.4
C17: Access channels | D17: =(E17-1)*33.3 -> 0 | E17: 1 | G17: =(H17-1)*33.3 -> 66.6 | H17: 3 | J17: =(K17-1)*33.3 -> 0 | K17: 1 | M17: =(N17-1)*33.3 -> 66.6 | N17: 3
C18: Citizen journey | D18: =(E18-1)*33.3 -> 33.3 | E18: 2 | G18: =(H18-1)*33.3 -> 33.3 | H18: 2 | J18: =(K18-1)*33.3 -> 33.3 | K18: 2 | M18: =(N18-1)*33.3 -> 33.3 | N18: 2
C19: Accessibility and inclusion | D19: =(E19-1)*33.3 -> 33.3 | E19: 2 | G19: =(H19-1)*33.3 -> 33.3 | H19: 2 | J19: =(K19-1)*33.3 -> 33.3 | K19: 2 | M19: =(N19-1)*33.3 -> 33.3 | N19: 2
B20: New services development | D20: =AVERAGE(D21:D22) -> 26.581579 | G20: =AVERAGE(G21:G22) -> 26.873684 | J20: =AVERAGE(J21:J22) -> 26.289474 | M20: =AVERAGE(M21:M22) -> 27.165789
C21: Digital service lifecycle | D21: =AVERAGE(D22:D24) -> 19.863158 | E21: 2 | G21: =AVERAGE(G22:G24) -> 20.447368 | H21: 2 | J21: =AVERAGE(J22:J24) -> 19.278947 | K21: 2 | M21: =AVERAGE(M22:M24) -> 21.031579 | N21: 2
C22: Service creation/enhancement | D22: =(E22-1)*33.3 -> 33.3 | E22: 2 | G22: =(H22-1)*33.3 -> 33.3 | H22: 2 | J22: =(K22-1)*33.3 -> 33.3 | K22: 2 | M22: =(N22-1)*33.3 -> 33.3 | N22: 2
C23: Testing and rollout strategies | D23: =(E23-1)*33.3 -> 0 | E23: 1 | G23: =(H23-1)*33.3 -> 0 | H23: 1 | J23: =(K23-1)*33.3 -> 0 | K23: 1 | M23: =(N23-1)*33.3 -> 0 | N23: 1
A24: Capabilities | D24: =AVERAGE(D26:D28,D30:D32,D34:D36,D38:D40,D42:D45,D47:D49) -> 26.289474 | G24: =AVERAGE(G26:G28,G30:G32,G34:G36,G38:G40,G42:G45,G47:G49) -> 28.042105 | J24: =AVERAGE(J26:J28,J30:J32,J34:J36,J38:J40,J42:J45,J47:J49) -> 24.536842 | M24: =AVERAGE(M26:M28,M30:M32,M34:M36,M38:M40,M42:M45,M47:M49) -> 29.794737
B25: Architecture & infrastructure | D25: =AVERAGE(D26:D28) -> 22.2 | G25: =AVERAGE(G26:G28) -> 44.4 | J25: =AVERAGE(J26:J28) -> 22.2 | M25: =AVERAGE(M26:M28) -> 33.3
C26: Architecture & Infrastructure | D26: =(E26-1)*33.3 -> 33.3 | E26: 2 | F26: between 2 and 3 | G26: =(H26-1)*33.3 -> 33.3 | H26: 2 | I26: Potentially 3, but need to ask additional questions to clarify | J26: =(K26-1)*33.3 -> 33.3 | K26: 2 | L26: Very limited systems landscape (the main system is documents management system | M26: =(N26-1)*33.3 -> 33.3 | N26: 2 | O26: Architectural decisions are made by subcontractors. There is no dedicated supervision of the AYNA's core system. Almost half of the systems in AYNA system are still in development
C27: Cloud adoption | D27: =(E27-1)*33.3 -> 33.3 | E27: 2 | F27: Basic G-Cloud adoption | G27: =(H27-1)*33.3 -> 66.6 | H27: 3 | I27: all systems are under G-cloud | J27: =(K27-1)*33.3 -> 33.3 | K27: 2 | M27: =(N27-1)*33.3 -> 66.6 | N27: 3 | O27: Everything is on g cloud
C28: Performance management | D28: =(E28-1)*33.3 -> 0 | E28: 1 | F28: Currently no established performance management tools. Imitiated limited Jira integration 1 month ago, currently in trial and testing period. | G28: =(H28-1)*33.3 -> 33.3 | H28: 2 | I28: No performance monitoring in place atm, but plan to introduce it once hire more people | J28: =(K28-1)*33.3 -> 0 | K28: 1 | M28: =(N28-1)*33.3 -> 0 | N28: 1 | O28: No monitoring, no SLAs
B29: Analytics & AI | D29: =AVERAGE(D30:D32) -> 44.4 | G29: =AVERAGE(G30:G32) -> 22.2 | J29: =AVERAGE(J30:J32) -> 44.4 | M29: =AVERAGE(M30:M32) -> 44.4
C30: Data availability | D30: =(E30-1)*33.3 -> 33.3 | E30: 2 | F30: data is stored by agencies, MDDT statistical division collects it, cleans up and analyzes | G30: =(H30-1)*33.3 -> 33.3 | H30: 2 | I30: Potentially 3, but need to ask additional questions to clarify | J30: =(K30-1)*33.3 -> 33.3 | K30: 2 | M30: =(N30-1)*33.3 -> 33.3 | N30: 2 | O30: Maybe 3, but need to clarify if the data across various modules of AYNA's system is integrated and accessible
C31: Advanced analytics tools | D31: =(E31-1)*33.3 -> 66.6 | E31: 3 | F31: statistical development division uses power BI | G31: =(H31-1)*33.3 -> 0 | H31: 1 | I31: tableau, power BI used by MDDT, no advanced analysis and decisoin making based on collected data, no AI driven tools no AI team | J31: =(K31-1)*33.3 -> 66.6 | K31: 3 | L31: Maybe even 2, because BI use is limited to statistics unit only | M31: =(N31-1)*33.3 -> 66.6 | N31: 3 | O31: Very limited data-driven decision-making and the usage of analytics tools (BI)
C32: Cross-department integration | D32: =(E32-1)*33.3 -> 33.3 | E32: 2 | F32: G-cloud and e-document circulation is adopted, but not in full. 3 years ago were exclusively working on paper. | G32: =(H32-1)*33.3 -> 33.3 | H32: 2 | I32: Limited collaborative projects are in place e-document circulation, data bridge use | J32: =(K32-1)*33.3 -> 33.3 | K32: 2 | M32: =(N32-1)*33.3 -> 33.3 | N32: 2
B33: Data governance | D33: =AVERAGE(D34:D36) -> 22.2 | G33: =AVERAGE(G34:G36) -> 22.2 | J33: =AVERAGE(J34:J36) -> 22.2 | M33: =AVERAGE(M34:M36) -> 22.2
C34: Data policies and management | D34: =(E34-1)*33.3 -> 0 | E34: 1 | F34: no policies | G34: =(H34-1)*33.3 -> 0 | H34: 1 | I34: No policies in place | J34: =(K34-1)*33.3 -> 0 | K34: 1 | M34: =(N34-1)*33.3 -> 0 | N34: 1
C35: Data model & architecture | D35: =(E35-1)*33.3 -> 66.6 | E35: 3 | F35: this is debatable. their statistical division does source data from all subordinate agencies and prepares reports based on it. | G35: =(H35-1)*33.3 -> 33.3 | H35: 2 | I35: There is some level of data integration between 11 systems. Need additional insight. | J35: =(K35-1)*33.3 -> 33.3 | K35: 2 | L35: Need to talk to statistics unit if they have a proper data model and repository | M35: =(N35-1)*33.3 -> 33.3 | N35: 2
C36: Data-driven culture | D36: =(E36-1)*33.3 -> 0 | E36: 1 | F36: some processes are still documented on paper (e.g. HR relevant requests) | G36: =(H36-1)*33.3 -> 33.3 | H36: 2 | I36: The process in integrating digital PM systems has started, planning to expand | J36: =(K36-1)*33.3 -> 33.3 | K36: 2 | M36: =(N36-1)*33.3 -> 33.3 | N36: 2
B37: Integration & partner ecosystem | D37: =AVERAGE(D38:D40) -> 44.4 | G37: =AVERAGE(G38:G40) -> 33.3 | J37: =AVERAGE(J38:J40) -> 33.3 | M37: =AVERAGE(M38:M40) -> 33.3
C38: Partner integration | D38: =(E38-1)*33.3 -> 33.3 | E38: 2 | F38: with plans to establish and monitor a joint repository of all software and tools, including PM dashboards | G38: =(H38-1)*33.3 -> 33.3 | H38: 2 | I38: Collaborration with MDDT, international partners (Turkey) | J38: =(K38-1)*33.3 -> 33.3 | K38: 2 | M38: =(N38-1)*33.3 -> 33.3 | N38: 2
C39: Open protocols/data exchange | D39: =(E39-1)*33.3 -> 66.6 | E39: 3 | F39: Collect data via government bridge, but do not publish yet. Head of strategy commented that opendata.az is a dead projects with interoperability issues, little to no informationa and low adoption | G39: =(H39-1)*33.3 -> 66.6 | H39: 3 | I39: Use e-circulation system and digital bridge. Need to clarify to what extend G-cloud and digital brdge are used. Also need to ask if they have any APIs published on opendata.az | J39: =(K39-1)*33.3 -> 33.3 | K39: 2 | M39: =(N39-1)*33.3 -> 33.3 | N39: 2 | O39: Communication with external entities is via e-circulation system.
C40: Outsourcing capability | D40: =(E40-1)*33.3 -> 33.3 | E40: 2 | F40: No vendor risk assessment or other established due diligence procedures in place | G40: =(H40-1)*33.3 -> 0 | H40: 1 | I40: No risk assessment for vendors | J40: =(K40-1)*33.3 -> 33.3 | K40: 2 | M40: =(N40-1)*33.3 -> 33.3 | N40: 2 | O40: Extensive use of outsourcers
...

Sheet DMA_Scores_UPD
A2: 1 | C2: DMA | G2: Across | I2: IDDA | L2: MDDT | O2: Maritime | R2: Aviation | U2: AYNA | X2: ESS | AA2: ICTA | AD2: MoJ
A3: 2
A4: 3
A5: 4 | C5: Pillars | D5: Domains | E5: Capabilities | G5: =AVERAGE(G8:G11,G14:G16,G18:G20,G22:G24,G27:G29,G31:G33,G35:G37,G39:G41,G43:G46,G48:G50,G53:G55,G57:G59,G61:G63) -> 33.909146 | I5: =AVERAGE(I8:I11,I14:I16,I18:I20,I22:I24,I27:I29,I31:I33,I35:I37,I39:I41,I43:I46,I48:I50,I53:I55,I57:I59,I61:I63) -> 53.604878 | L5: =AVERAGE(L8:L11,L14:L16,L18:L20,L22:L24,L27:L29,L31:L33,L35:L37,L39:L41,L43:L46,L48:L50,L53:L55,L57:L59,L61:L63) -> 17.868293 | O5: =AVERAGE(O8:O11,O14:O16,O18:O20,O22:O24,O27:O29,O31:O33,O35:O37,O39:O41,O43:O46,O48:O50,O53:O55,O57:O59,O61:O63) -> 23.553659 | R5: =AVERAGE(R8:R11,R14:R16,R18:R20,R22:R24,R27:R29,R31:R33,R35:R37,R39:R41,R43:R46,R48:R50,R53:R55,R57:R59,R61:R63) -> 10.558537 | U5: =AVERAGE(U8:U11,U14:U16,U18:U20,U22:U24,U27:U29,U31:U33,U35:U37,U39:U41,U43:U46,U48:U50,U53:U55,U57:U59,U61:U63) -> 44.670732 | X5: =AVERAGE(X8:X11,X14:X16,X18:X20,X22:X24,X27:X29,X31:X33,X35:X37,X39:X41,X43:X46,X48:X50,X53:X55,X57:X59,X61:X63) -> 21.117073 | AA5: =AVERAGE(AA8:AA11,AA14:AA16,AA18:AA20,AA22:AA24,AA27:AA29,AA31:AA33,AA35:AA37,AA39:AA41,AA43:AA46,AA48:AA50,AA53:AA55,AA57:AA59,AA61:AA63) -> 60.102439 | AD5: =AVERAGE(AD8:AD11,AD14:AD16,AD18:AD20,AD22:AD24,AD27:AD29,AD31:AD33,AD35:AD37,AD39:AD41,AD43:AD46,AD48:AD50,AD53:AD55,AD57:AD59,AD61:AD63) -> 39.797561
A6: 5 | C6: Strategy | G6: =G7 -> 30.178125 | I6: =I7 -> 58.275 | L6: =L7 -> 16.65 | O6: =O7 -> 24.975 | R6: =R7 -> 0 | U6: =U7 -> 41.625 | X6: =X7 -> 0 | AA6: =AA7 -> 66.6 | AD6: =AD7 -> 33.3
A7: 6 | D7: Vision and roadmap | G7: =AVERAGE(G8:G11) -> 30.178125 | I7: =AVERAGE(I8:I11) -> 58.275 | L7: =AVERAGE(L8:L11) -> 16.65 | O7: =IFERROR(AVERAGE(O8:O11),"") -> 24.975 | R7: =IFERROR(AVERAGE(R8:R11),"") -> 0 | U7: =AVERAGE(U8:U11) -> 41.625 | X7: =AVERAGE(X8:X11) -> 0 | AA7: =AVERAGE(AA8:AA11) -> 66.6 | AD7: =AVERAGE(AD8:AD11) -> 33.3
A8: 7 | E8: Target state definition | G8: =AVERAGE(I8,L8,O8,R8,U8,X8,AA8,AD8) -> 29.1375 | I8: =(J8-1)*33.3 -> 66.6 | J8: {=INDIRECT(I$2&"!G"&$A8)} -> 3 | L8: =(M8-1)*33.3 -> 0 | M8: {=INDIRECT(L$2&"!G"&$A8)} -> 1 | O8: =IF(P8=0,"",(P8-1)*33.3) -> 33.3 | P8: {=INDIRECT(O$2&"!G"&$A8)} -> 2 | R8: =IF(S8=0,"",(S8-1)*33.3) -> 0 | S8: {=INDIRECT(R$2&"!G"&$A8)} -> 1 | U8: =(V8-1)*33.3 -> 33.3 | V8: {=INDIRECT(U$2&"!G"&$A9)} -> 2 | X8: =(Y8-1)*33.3 -> 0 | Y8: {=INDIRECT(X$2&"!G"&$A8)} -> 1 | AA8: =(AB8-1)*33.3 -> 66.6 | AB8: {=INDIRECT(AA$2&"!G"&$A8)} -> 3 | AD8: =(AE8-1)*33.3 -> 33.3 | AE8: {=INDIRECT(AD$2&"!G"&$A8)} -> 2
A9: 8 | E9: Engagement & communication | G9: =AVERAGE(I9,L9,O9,R9,U9,X9,AA9,AD9) -> 29.1375 | I9: =(J9-1)*33.3 -> 66.6 | J9: {=INDIRECT(I$2&"!G"&$A9)} -> 3 | L9: =(M9-1)*33.3 -> 33.3 | M9: {=INDIRECT(L$2&"!G"&$A9)} -> 2 | O9: =IF(P9=0,"",(P9-1)*33.3) -> 0 | P9: {=INDIRECT(O$2&"!G"&$A9)} -> 1 | R9: =IF(S9=0,"",(S9-1)*33.3) -> 0 | S9: {=INDIRECT(R$2&"!G"&$A9)} -> 1 | U9: =(V9-1)*33.3 -> 33.3 | V9: {=INDIRECT(U$2&"!G"&$A10)} -> 2 | X9: =(Y9-1)*33.3 -> 0 | Y9: {=INDIRECT(X$2&"!G"&$A9)} -> 1 | AA9: =(AB9-1)*33.3 -> 66.6 | AB9: {=INDIRECT(AA$2&"!G"&$A9)} -> 3 | AD9: =(AE9-1)*33.3 -> 33.3 | AE9: {=INDIRECT(AD$2&"!G"&$A9)} -> 2
A10: 9 | E10: Implementation roadmap | G10: =AVERAGE(I10,L10,O10,R10,U10,X10,AA10,AD10) -> 29.1375 | I10: =(J10-1)*33.3 -> 33.3 | J10: {=INDIRECT(I$2&"!G"&$A10)} -> 2 | L10: =(M10-1)*33.3 -> 0 | M10: {=INDIRECT(L$2&"!G"&$A10)} -> 1 | O10: =IF(P10=0,"",(P10-1)*33.3) -> 33.3 | P10: {=INDIRECT(O$2&"!G"&$A10)} -> 2 | R10: =IF(S10=0,"",(S10-1)*33.3) -> 0 | S10: {=INDIRECT(R$2&"!G"&$A10)} -> 1 | U10: =(V10-1)*33.3 -> 66.6 | V10: {=INDIRECT(U$2&"!G"&$A11)} -> 3 | X10: =(Y10-1)*33.3 -> 0 | Y10: {=INDIRECT(X$2&"!G"&$A10)} -> 1 | AA10: =(AB10-1)*33.3 -> 66.6 | AB10: {=INDIRECT(AA$2&"!G"&$A10)} -> 3 | AD10: =(AE10-1)*33.3 -> 33.3 | AE10: {=INDIRECT(AD$2&"!G"&$A10)} -> 2
A11: 10 | E11: Digital related KPIs | G11: =AVERAGE(I11,L11,O11,R11,U11,X11,AA11,AD11) -> 33.3 | I11: =(J11-1)*33.3 -> 66.6 | J11: {=INDIRECT(I$2&"!G"&$A11)} -> 3 | L11: =(M11-1)*33.3 -> 33.3 | M11: {=INDIRECT(L$2&"!G"&$A11)} -> 2 | O11: =IF(P11=0,"",(P11-1)*33.3) -> 33.3 | P11: {=INDIRECT(O$2&"!G"&$A11)} -> 2 | R11: =IF(S11=0,"",(S11-1)*33.3) -> 0 | S11: {=INDIRECT(R$2&"!G"&$A11)} -> 1 | U11: =(V11-1)*33.3 -> 33.3 | V11: {=INDIRECT(U$2&"!G"&$A12)} -> 2 | X11: =(Y11-1)*33.3 -> 0 | Y11: {=INDIRECT(X$2&"!G"&$A11)} -> 1 | AA11: =(AB11-1)*33.3 -> 66.6 | AB11: {=INDIRECT(AA$2&"!G"&$A11)} -> 3 | AD11: =(AE11-1)*33.3 -> 33.3 | AE11: {=INDIRECT(AD$2&"!G"&$A11)} -> 2
A12: 11 | C12: Services provided | G12: =AVERAGE(G14:G16,G18:G20,G22:G24) -> 38.85 | I12: =AVERAGE(I14:I16,I18:I20,I22:I24) -> 51.8 | L12: =AVERAGE(L14:L16,L18:L20,L22:L24) -> 14.8 | O12: =AVERAGE(O14:O16,O18:O20,O22:O24) -> 33.3 | R12: =IFERROR(AVERAGE(R13,R17,R21),"") -> 11.1 | U12: =AVERAGE(U14:U16,U18:U20,U22:U24) -> 44.4 | X12: =AVERAGE(X14:X16,X18:X20,X22:X24) -> 29.6 | AA12: =AVERAGE(AA14:AA16,AA18:AA20,AA22:AA24) -> 66.6 | AD12: =AVERAGE(AD14:AD16,AD18:AD20,AD22:AD24) -> 59.2
A13: 12 | D13: Service digitalization | G13: =AVERAGE(G14:G16) -> 44.4 | I13: =AVERAGE(I14:I16) -> 44.4 | L13: =IFERROR(AVERAGE(L14:L16),"") -> 22.2 | O13: =IFERROR(AVERAGE(O14:O16),"") -> 33.3 | R13: =IFERROR(AVERAGE(R14:R16),"") -> 22.2 | U13: =AVERAGE(U14:U16) -> 55.5 | X13: =AVERAGE(X14:X16) -> 33.3 | AA13: =AVERAGE(AA14:AA16) -> 77.7 | AD13: =AVERAGE(AD14:AD16) -> 66.6
A14: 13 | E14: Share of digital services | G14: =AVERAGE(I14,L14,O14,R14,U14,X14,AA14,AD14) -> 49.95 | I14: =(J14-1)*33.3 -> 66.6 | J14: {=INDIRECT(I$2&"!G"&$A14)} -> 3 | L14: =(M14-1)*33.3 -> 0 | M14: {=INDIRECT(L$2&"!G"&$A14)} -> 1 | O14: =IF(P14=0,"",(P14-1)*33.3) -> 33.3 | P14: {=INDIRECT(O$2&"!G"&$A14)} -> 2 | R14: =IF(S14=0,"",(S14-1)*33.3) -> 33.3 | S14: {=INDIRECT(R$2&"!G"&$A14)} -> 2 | U14: =(V14-1)*33.3 -> 66.6 | V14: {=INDIRECT(U$2&"!G"&$A15)} -> 3 | X14: =(Y14-1)*33.3 -> 33.3 | Y14: {=INDIRECT(X$2&"!G"&$A14)} -> 2 | AA14: =(AB14-1)*33.3 -> 99.9 | AB14: {=INDIRECT(AA$2&"!G"&$A14)} -> 4 | AD14: =(AE14-1)*33.3 -> 66.6 | AE14: {=INDIRECT(AD$2&"!G"&$A14)} -> 3
A15: 14 | E15: Automation level | G15: =AVERAGE(I15,L15,O15,R15,U15,X15,AA15,AD15) -> 37.4625 | I15: =(J15-1)*33.3 -> 33.3 | J15: {=INDIRECT(I$2&"!G"&$A15)} -> 2 | L15: =(M15-1)*33.3 -> 33.3 | M15: {=INDIRECT(L$2&"!G"&$A15)} -> 2 | O15: =IF(P15=0,"",(P15-1)*33.3) -> 33.3 | P15: {=INDIRECT(O$2&"!G"&$A15)} -> 2 | R15: =IF(S15=0,"",(S15-1)*33.3) -> 0 | S15: {=INDIRECT(R$2&"!G"&$A15)} -> 1 | U15: =(V15-1)*33.3 -> 33.3 | V15: {=INDIRECT(U$2&"!G"&$A16)} -> 2 | X15: =(Y15-1)*33.3 -> 33.3 | Y15: {=INDIRECT(X$2&"!G"&$A15)} -> 2 | AA15: =(AB15-1)*33.3 -> 66.6 | AB15: {=INDIRECT(AA$2&"!G"&$A15)} -> 3 | AD15: =(AE15-1)*33.3 -> 66.6 | AE15: {=INDIRECT(AD$2&"!G"&$A15)} -> 3
A16: 15 | E16: Service quality and reliability | G16: =AVERAGE(I16,L16,O16,R16,U16,X16,AA16,AD16) -> 45.7875 | I16: =(J16-1)*33.3 -> 33.3 | J16: {=INDIRECT(I$2&"!G"&$A16)} -> 2 | L16: =(M16-1)*33.3 -> 33.3 | M16: {=INDIRECT(L$2&"!G"&$A16)} -> 2 | O16: =IF(P16=0,"",(P16-1)*33.3) -> 33.3 | P16: {=INDIRECT(O$2&"!G"&$A16)} -> 2 | R16: =IF(S16=0,"",(S16-1)*33.3) -> 33.3 | S16: {=INDIRECT(R$2&"!G"&$A16)} -> 2 | U16: =(V16-1)*33.3 -> 66.6 | V16: {=INDIRECT(U$2&"!G"&$A17)} -> 3 | X16: =(Y16-1)*33.3 -> 33.3 | Y16: {=INDIRECT(X$2&"!G"&$A16)} -> 2 | AA16: =(AB16-1)*33.3 -> 66.6 | AB16: {=INDIRECT(AA$2&"!G"&$A16)} -> 3 | AD16: =(AE16-1)*33.3 -> 66.6 | AE16: {=INDIRECT(AD$2&"!G"&$A16)} -> 3
